BEGIN:VCALENDAR
VERSION:2.0
PRODID:-//Welcome to NEW CENTURY ART GUILD - ECPv6.9.0//NONSGML v1.0//EN
CALSCALE:GREGORIAN
METHOD:PUBLISH
X-ORIGINAL-URL:https://newcenturyartguild.org
X-WR-CALDESC:Events for Welcome to NEW CENTURY ART GUILD
REFRESH-INTERVAL;VALUE=DURATION:PT1H
X-Robots-Tag:noindex
X-PUBLISHED-TTL:PT1H
BEGIN:VTIMEZONE
TZID:UTC
BEGIN:STANDARD
TZOFFSETFROM:+0000
TZOFFSETTO:+0000
TZNAME:UTC
DTSTART:20230101T000000
END:STANDARD
END:VTIMEZONE
BEGIN:VEVENT
DTSTART;TZID=UTC:20231013T070000
DTEND;TZID=UTC:20231015T120000
DTSTAMP:20260425T190028
CREATED:20230201T165846Z
LAST-MODIFIED:20230201T165846Z
UID:1460-1697180400-1697371200@newcenturyartguild.org
SUMMARY:2023 Nebraska Women Veterans Symposium
DESCRIPTION:The Nebraska Department of Veterans’ Affairs has set a date for the 2023 Nebraska Women Veterans Symposium! This year’s symposium will run from October 13-15\, 2023 at the Holiday Inn Hotel and Convention Center in Kearney. Stay tuned for more information including news about registration for the event!
URL:https://newcenturyartguild.org/event/2023-nebraska-women-veterans-symposium/
LOCATION:Holiday Inn Hotel and Convention Center in Kearney
ATTACH;FMTTYPE=image/jpeg:https://newcenturyartguild.org/wp-content/uploads/2023/02/Symposium-2023.jpg
END:VEVENT
END:VCALENDAR