BEGIN:VCALENDAR
VERSION:2.0
PRODID:-//Welcome to NEW CENTURY ART GUILD - ECPv6.9.0//NONSGML v1.0//EN
CALSCALE:GREGORIAN
METHOD:PUBLISH
X-WR-CALNAME:Welcome to NEW CENTURY ART GUILD
X-ORIGINAL-URL:https://newcenturyartguild.org
X-WR-CALDESC:Events for Welcome to NEW CENTURY ART GUILD
REFRESH-INTERVAL;VALUE=DURATION:PT1H
X-Robots-Tag:noindex
X-PUBLISHED-TTL:PT1H
BEGIN:VTIMEZONE
TZID:UTC
BEGIN:STANDARD
TZOFFSETFROM:+0000
TZOFFSETTO:+0000
TZNAME:UTC
DTSTART:20230101T000000
END:STANDARD
END:VTIMEZONE
BEGIN:VEVENT
DTSTART;TZID=UTC:20231016T080000
DTEND;TZID=UTC:20231016T170000
DTSTAMP:20260425T185856
CREATED:20230905T221019Z
LAST-MODIFIED:20230905T221601Z
UID:1530-1697443200-1697475600@newcenturyartguild.org
SUMMARY:1st Annual OMEGA Golf Classic
DESCRIPTION:Welcome to the 1st Annual OMEGA Classic\n  \nJoin us on October 16\, 2023 for the FIRST ANNUAL OMEGA GOLF CLASSIC to support disabled veterans and their recovery. \nMonday\, October 16\, 2023: \n\n8:00 AM – Practice Range Opens\n9:00 AM – Event Start Time\n1:00 PM – Lunch Start Time\n2:00 PM – Auction Start Time\n\nCheck Out these Great Prizes!\nThe Omega Classic will feature World-Class prizes … \n– Two complete “Guaranteed Winner” Long Drive Contests to win 2 VIP Ticket Prizes \n(2 tickets to a MLB\, NFL\, NHL\, NASCAR\, PGA or NBA event\, concert\, musical\, or Broadway show of their choice). One for men and one for women. \n– Two complete “Guaranteed Winner” Closest-to-the-Pin contests each with a prize of 2 VIP Ticket Prizes \n(2 tickets to a MLB\, NFL\, NHL\, NASCAR\, PGA or NBA event\, concert\, musical\, or Broadway show of their choice). One for men and one for women. \n– A “Guaranteed Winner” Putting Contest for a 7-Night Worldwide Resort Getaway for up to 6 people at one of up to 3\,000 locations. \n– $10\,000 Hole-in-One Prize. \n– $100\,000 Shootout: 4 Players have a chance to win $100\,000. Visit our Auction page to reserve on your spot! \n– 1st\, 2nd\, & 3rd Place Award Plaques \n–  Two Raffle winners to receive a VIP Ticket Prize: 2 tickets to a major sporting event (MLB\, NFL\, NHL\, NASCAR\, PGA or NBA)
URL:https://newcenturyartguild.org/event/1st-annual-omega-golf-classic/
LOCATION:Fair Oaks Ranch Country Club\, 7900 Fair Oaks Pkwy\, Fair Oaks\, TX\, 78015\, United States
ATTACH;FMTTYPE=image/jpeg:https://newcenturyartguild.org/wp-content/uploads/2023/09/golf-scaled.jpg
END:VEVENT
END:VCALENDAR