BEGIN:VCALENDAR
VERSION:2.0
PRODID:-//Welcome to NEW CENTURY ART GUILD - ECPv6.9.0//NONSGML v1.0//EN
CALSCALE:GREGORIAN
METHOD:PUBLISH
X-WR-CALNAME:Welcome to NEW CENTURY ART GUILD
X-ORIGINAL-URL:https://newcenturyartguild.org
X-WR-CALDESC:Events for Welcome to NEW CENTURY ART GUILD
REFRESH-INTERVAL;VALUE=DURATION:PT1H
X-Robots-Tag:noindex
X-PUBLISHED-TTL:PT1H
BEGIN:VTIMEZONE
TZID:UTC
BEGIN:STANDARD
TZOFFSETFROM:+0000
TZOFFSETTO:+0000
TZNAME:UTC
DTSTART:20250101T000000
END:STANDARD
END:VTIMEZONE
BEGIN:VEVENT
DTSTART;TZID=UTC:20250719T110000
DTEND;TZID=UTC:20250719T170000
DTSTAMP:20260424T061357
CREATED:20250107T185844Z
LAST-MODIFIED:20250205T174248Z
UID:1646-1752922800-1752944400@newcenturyartguild.org
SUMMARY:FREEDOM ISN'T FREE FESTIVAL\, SAN ANTONIO TX
DESCRIPTION:Join us!  \n30+ Veteran Service Organizations\, Vendors\, Games\, Veteran Art Exhibition \nFood and Drinks available\, Cash Bar \n  \nPURCHASE TICKETS HERE: \nNCAGevent.org \nMUSIC BY: \nJeffery Steele\, Johnny Saxx\, Three Beards \nWHERE: \nNorris Conference Center -San Antonio \n618 NW Loop 410 -Unit #207\, San Antonio TX\, 78216 \nWHEN: July 19\, 2025 —Doors open 11am-5pm
URL:https://newcenturyartguild.org/event/freedom-isnt-free-vet-expo/
LOCATION:Norris Conference Center\, 618 NW Loop 410 -Unit #207\, San Antonio\, TX\, 78216\, United States
END:VEVENT
END:VCALENDAR