BEGIN:VCALENDAR
VERSION:2.0
PRODID:-//Welcome to NEW CENTURY ART GUILD - ECPv6.9.0//NONSGML v1.0//EN
CALSCALE:GREGORIAN
METHOD:PUBLISH
X-ORIGINAL-URL:https://newcenturyartguild.org
X-WR-CALDESC:Events for Welcome to NEW CENTURY ART GUILD
REFRESH-INTERVAL;VALUE=DURATION:PT1H
X-Robots-Tag:noindex
X-PUBLISHED-TTL:PT1H
BEGIN:VTIMEZONE
TZID:UTC
BEGIN:STANDARD
TZOFFSETFROM:+0000
TZOFFSETTO:+0000
TZNAME:UTC
DTSTART:20190101T000000
END:STANDARD
END:VTIMEZONE
BEGIN:VEVENT
DTSTART;TZID=UTC:20250719T110000
DTEND;TZID=UTC:20250719T170000
DTSTAMP:20260423T150619
CREATED:20250107T185844Z
LAST-MODIFIED:20250205T174248Z
UID:1646-1752922800-1752944400@newcenturyartguild.org
SUMMARY:FREEDOM ISN'T FREE FESTIVAL\, SAN ANTONIO TX
DESCRIPTION:Join us!  \n30+ Veteran Service Organizations\, Vendors\, Games\, Veteran Art Exhibition \nFood and Drinks available\, Cash Bar \n  \nPURCHASE TICKETS HERE: \nNCAGevent.org \nMUSIC BY: \nJeffery Steele\, Johnny Saxx\, Three Beards \nWHERE: \nNorris Conference Center -San Antonio \n618 NW Loop 410 -Unit #207\, San Antonio TX\, 78216 \nWHEN: July 19\, 2025 —Doors open 11am-5pm
URL:https://newcenturyartguild.org/event/freedom-isnt-free-vet-expo/
LOCATION:Norris Conference Center\, 618 NW Loop 410 -Unit #207\, San Antonio\, TX\, 78216\, United States
END:VEVENT
BEGIN:VEVENT
DTSTART;TZID=UTC:20240927T080000
DTEND;TZID=UTC:20240929T170000
DTSTAMP:20260423T150619
CREATED:20240727T203116Z
LAST-MODIFIED:20240728T010922Z
UID:1584-1727424000-1727629200@newcenturyartguild.org
SUMMARY:3rd ANNUAL NEBRASKA WOMEN VETERANS SYMPOSIUM
DESCRIPTION:Women veterans\, save the date for the 2024 Nebraska Women Veterans Symposium! This year’s symposium will be held from September 27-29 in Kearney and is free for attendees. Stay up to date on NDVA events by subscribing to NDVA emails at veterans.nebraska.gov/subscribe
URL:https://newcenturyartguild.org/event/3rd-annual-nebraska-women-veterans-symposium/
LOCATION:Holiday Inn Hotel and Convention Center in Kearney
ATTACH;FMTTYPE=image/jpeg:https://newcenturyartguild.org/wp-content/uploads/2024/07/symposium-3.jpg
END:VEVENT
BEGIN:VEVENT
DTSTART;TZID=UTC:20240526T103000
DTEND;TZID=UTC:20240526T140000
DTSTAMP:20260423T150619
CREATED:20240402T141218Z
LAST-MODIFIED:20240402T141218Z
UID:1552-1716719400-1716732000@newcenturyartguild.org
SUMMARY:TIVOLI OPEN HOUSE AND EXHIBITION 2024
DESCRIPTION:Join us for our annual open house and veteran art exhibition!
URL:https://newcenturyartguild.org/event/tivoli-open-house-and-exhibition-2024/
LOCATION:NCAG CANTEEN GALLERY & WORKSPACE\, 4142 Main Street\, Elk Horn \, IA\, 51531\, United States
END:VEVENT
BEGIN:VEVENT
DTSTART;TZID=UTC:20240202T180000
DTEND;TZID=UTC:20240202T230000
DTSTAMP:20260423T150619
CREATED:20230824T163119Z
LAST-MODIFIED:20231206T181655Z
UID:1523-1706896800-1706914800@newcenturyartguild.org
SUMMARY:"HEARTS FOR HEROES" VETERAN ART GALA - SAN ANTONIO
DESCRIPTION:Join us at The Club at Sonterra for an evening of art\, music and comradery!
URL:https://newcenturyartguild.org/event/hearts-for-heros-veteran-art-gala-san-antonio/
LOCATION:The Club at Sonterra\, 901 Sonterra Blvd\, San Antonio\, 78258\, United States
ATTACH;FMTTYPE=image/jpeg:https://newcenturyartguild.org/wp-content/uploads/2023/08/hearts-for-heros-version-1-smaller.jpg
END:VEVENT
BEGIN:VEVENT
DTSTART;TZID=UTC:20231016T080000
DTEND;TZID=UTC:20231016T170000
DTSTAMP:20260423T150619
CREATED:20230905T221019Z
LAST-MODIFIED:20230905T221601Z
UID:1530-1697443200-1697475600@newcenturyartguild.org
SUMMARY:1st Annual OMEGA Golf Classic
DESCRIPTION:Welcome to the 1st Annual OMEGA Classic\n  \nJoin us on October 16\, 2023 for the FIRST ANNUAL OMEGA GOLF CLASSIC to support disabled veterans and their recovery. \nMonday\, October 16\, 2023: \n\n8:00 AM – Practice Range Opens\n9:00 AM – Event Start Time\n1:00 PM – Lunch Start Time\n2:00 PM – Auction Start Time\n\nCheck Out these Great Prizes!\nThe Omega Classic will feature World-Class prizes … \n– Two complete “Guaranteed Winner” Long Drive Contests to win 2 VIP Ticket Prizes \n(2 tickets to a MLB\, NFL\, NHL\, NASCAR\, PGA or NBA event\, concert\, musical\, or Broadway show of their choice). One for men and one for women. \n– Two complete “Guaranteed Winner” Closest-to-the-Pin contests each with a prize of 2 VIP Ticket Prizes \n(2 tickets to a MLB\, NFL\, NHL\, NASCAR\, PGA or NBA event\, concert\, musical\, or Broadway show of their choice). One for men and one for women. \n– A “Guaranteed Winner” Putting Contest for a 7-Night Worldwide Resort Getaway for up to 6 people at one of up to 3\,000 locations. \n– $10\,000 Hole-in-One Prize. \n– $100\,000 Shootout: 4 Players have a chance to win $100\,000. Visit our Auction page to reserve on your spot! \n– 1st\, 2nd\, & 3rd Place Award Plaques \n–  Two Raffle winners to receive a VIP Ticket Prize: 2 tickets to a major sporting event (MLB\, NFL\, NHL\, NASCAR\, PGA or NBA)
URL:https://newcenturyartguild.org/event/1st-annual-omega-golf-classic/
LOCATION:Fair Oaks Ranch Country Club\, 7900 Fair Oaks Pkwy\, Fair Oaks\, TX\, 78015\, United States
ATTACH;FMTTYPE=image/jpeg:https://newcenturyartguild.org/wp-content/uploads/2023/09/golf-scaled.jpg
END:VEVENT
BEGIN:VEVENT
DTSTART;TZID=UTC:20231013T070000
DTEND;TZID=UTC:20231015T120000
DTSTAMP:20260423T150619
CREATED:20230201T165846Z
LAST-MODIFIED:20230201T165846Z
UID:1460-1697180400-1697371200@newcenturyartguild.org
SUMMARY:2023 Nebraska Women Veterans Symposium
DESCRIPTION:The Nebraska Department of Veterans’ Affairs has set a date for the 2023 Nebraska Women Veterans Symposium! This year’s symposium will run from October 13-15\, 2023 at the Holiday Inn Hotel and Convention Center in Kearney. Stay tuned for more information including news about registration for the event!
URL:https://newcenturyartguild.org/event/2023-nebraska-women-veterans-symposium/
LOCATION:Holiday Inn Hotel and Convention Center in Kearney
ATTACH;FMTTYPE=image/jpeg:https://newcenturyartguild.org/wp-content/uploads/2023/02/Symposium-2023.jpg
END:VEVENT
BEGIN:VEVENT
DTSTART;TZID=UTC:20230909T180000
DTEND;TZID=UTC:20230909T230000
DTSTAMP:20260423T150619
CREATED:20230510T181258Z
LAST-MODIFIED:20230727T162515Z
UID:1483-1694282400-1694300400@newcenturyartguild.org
SUMMARY:NCAG PRESENTS VETERAN ART GALA\, DALLAS TX
DESCRIPTION:Tickets can be purchased here: \nHome (veteranartgala.com) \nNew Century Art Guild is hosting “Guns & Gowns” an all-Veteran art gala at Giter Sports in Dallas\, Texas taking place September 9th\, 2023. Doors open at 6pm with refreshments and dinner will be served at 7:30p. All proceeds will directly benefit veteran artists. \nThe evening will include a delicious dinner from Cajun Cravings\, and veteran art in a variety of forms- music\, poetry\, paintings\, sculptures\, authors\, and woodwork.  Join us for an evening of Veteran art\, sportsmanship and celebrating the art and proud service of veteran artists in the Dallas TX region! \nTickets can be purchased here: \nHome (veteranartgala.com)
URL:https://newcenturyartguild.org/event/ncag-presents-veteran-art-galla-dallas-tx/
LOCATION:GRITR Sports & Outdoors\, 7901 Boulevard 26\, North Richland Hills\, 76180\, United States
ATTACH;FMTTYPE=image/jpeg:https://newcenturyartguild.org/wp-content/uploads/2023/05/gala-50.jpg
END:VEVENT
BEGIN:VEVENT
DTSTART;TZID=UTC:20230527T103000
DTEND;TZID=UTC:20230527T143000
DTSTAMP:20260423T150619
CREATED:20230517T161738Z
LAST-MODIFIED:20230517T162214Z
UID:1487-1685183400-1685197800@newcenturyartguild.org
SUMMARY:NCAG TIVOLI EVENT
DESCRIPTION:Join us for Tivoli 2023…free beer\, pop\, hotdogs\, chips and veteran art and art sale. Also\, a free tie dye t-shirt making workshop!
URL:https://newcenturyartguild.org/event/ncag-tivoli-event/
LOCATION:NCAG CANTEEN GALLERY & WORKSPACE\, 4142 Main Street\, Elk Horn\, IA\, 51531\, United States
ATTACH;FMTTYPE=image/jpeg:https://newcenturyartguild.org/wp-content/uploads/2023/05/tivoli.jpg
END:VEVENT
BEGIN:VEVENT
DTSTART;TZID=UTC:20230310T180000
DTEND;TZID=UTC:20230310T230000
DTSTAMP:20260423T150619
CREATED:20221201T195537Z
LAST-MODIFIED:20230307T023303Z
UID:1445-1678471200-1678489200@newcenturyartguild.org
SUMMARY:NCAG PRESENTS: U.S. VETERAN ART GALA (-SOLD OUT-)
DESCRIPTION:“Thank you for attending NCAG Presents: US Veteran Art Gala!” \n\nONLINE RAFFLE TICKET PURCHASE and DONATIONS–please click yellow PayPal button below to purchase Raffle tickets and make donations:\n\n  \nOTHER DONATION OPTIONS: \nCheck by Mail: \nAttn: Texas Veterans Art Show\, New Century Art Guild\, 4142 Main St.\, PO Box 92\, Elk Horn\, IA\, 51543 \n  \n \n—THIS EVENT IS SOLD OUT!! —- \nJoin us for an all-Veteran art gala and fundraiser at the McKenna Events Center in New Braunfels on March 10\, 2023. Doors open at 6pm with refreshments and dinner will be served at 7:30p. All proceeds will directly benefit veteran artists breaking into careers in art. Art is a therapeutic outlet for many of our service members dealing with PTSD and is a wonderful tool that stimulates a sense of accomplishment\, pride\, and purpose.  The evening will include dinner\, and veteran art in a variety of forms- music\, poetry\, paintings\, sculptures\, authors\, and woodwork.  \n—THIS EVENT IS SOLD OUT!! —- \nNew Century Art Guild is looking forward to expanding its reach to artists and veterans in the coming year. Your tax-deductible contribution will play an important role in realizing our goals. We thank you for your generosity and confidence in our mission! \n—THIS EVENT IS SOLD OUT!! —- \n(Last day to purchase tickets was March 1\, 2023!)
URL:https://newcenturyartguild.org/event/ncag-presents-u-s-veterans-art-show/
LOCATION:McKenna Children’s Museum\, 801 W. San Antonio St.\, New Braunfels\, 78130\, United States
END:VEVENT
BEGIN:VEVENT
DTSTART;TZID=UTC:20220924T080000
DTEND;TZID=UTC:20220925T170000
DTSTAMP:20260423T150619
CREATED:20220412T185006Z
LAST-MODIFIED:20220412T185006Z
UID:1420-1664006400-1664125200@newcenturyartguild.org
SUMMARY:Nebraska Women Veterans Symposium
DESCRIPTION: 
URL:https://newcenturyartguild.org/event/nebraska-women-veterans-symposium/
LOCATION:TX
END:VEVENT
BEGIN:VEVENT
DTSTART;TZID=UTC:20220528T103000
DTEND;TZID=UTC:20220528T153000
DTSTAMP:20260423T150619
CREATED:20220407T194013Z
LAST-MODIFIED:20220407T194013Z
UID:1415-1653733800-1653751800@newcenturyartguild.org
SUMMARY:TIVOLI 2022 --featuring POLKA POLICE!
DESCRIPTION:Join us for Tivoli 2022 on Saturday May 28th \nHotdogs\, beer and pop\, free all-ages art workshop and veteran art exhibit start at 10:30am\, Polka Police starts at noon! “I wanna Rock!”
URL:https://newcenturyartguild.org/event/tivoli-2022-featuring-polka-police/
LOCATION:NCAG CANTEEN GALLERY & WORKSPACE\, 4142 Main Street\, Elk Horn\, IA\, 51531\, United States
END:VEVENT
BEGIN:VEVENT
DTSTART;TZID=UTC:20220517T170000
DTEND;TZID=UTC:20220517T210000
DTSTAMP:20260423T150619
CREATED:20220509T160255Z
LAST-MODIFIED:20220509T160548Z
UID:1429-1652806800-1652821200@newcenturyartguild.org
SUMMARY:NCAG "GIVING TUESDAY" H.Q. AT SAFARI CIGARS AND LOUNGE
DESCRIPTION:
URL:https://newcenturyartguild.org/event/1429/
LOCATION:Safari Cigars and Lounge\, Safari Cigars and Lounge 13110 Birch Dr Ste 108\, Omaha\, NE\, 68164\, United States
END:VEVENT
BEGIN:VEVENT
DTSTART;TZID=UTC:20211126T100000
DTEND;TZID=UTC:20211126T140000
DTSTAMP:20260423T150619
CREATED:20211124T222440Z
LAST-MODIFIED:20211125T002323Z
UID:1400-1637920800-1637935200@newcenturyartguild.org
SUMMARY:JULEFEST 2021 VETERAN ART EXHIBIT AND WORKSHOP
DESCRIPTION:Join us for a day full of holiday cheer! Five veteran artists display art work and NCAG will host a holiday ornament making workshop. Also\, enjoy hot cocoa and seasonal treats!
URL:https://newcenturyartguild.org/event/julefest-2021-veteran-art-exhibit-and-workshop/
LOCATION:NCAG CANTEEN GALLERY & WORKSPACE\, 4142 Main Street\, Elk Horn\, IA\, 51531\, United States
END:VEVENT
BEGIN:VEVENT
DTSTART;TZID=UTC:20211112T060000
DTEND;TZID=UTC:20211112T200000
DTSTAMP:20260423T150619
CREATED:20211019T163959Z
LAST-MODIFIED:20211109T140926Z
UID:1385-1636696800-1636747200@newcenturyartguild.org
SUMMARY:NCAG CO-SPONSORS VETERANS DAY ART EXHIBITION IN CHICAGOLAND AREA
DESCRIPTION:Argentum Medical and the New Century Art Guild to Cohost Veterans Day Art Show on Friday\, November 12\, Featuring the Work of Wounded Warrior\, Purple Heart Recipient and Artist U.S. Army Sgt. Mario Lopez  \n  \nLopez\, who sustained burns over 54% of his body\, was treated with Argentum’s Silverlon antimicrobial dressing which significantly reduces postoperative infection rate for burn and blast injuries Lopez serves as SW Region Art Director for New Century Art Guild\, which provides training in art to military veteran artists\, so they may successfully pursue new careers as artists\, teachers or administrators  \nGeneva\, Ill. (November 1\, 2021) — Argentum Medical\, a medical device manufacture located in Geneva\, Illinois and pioneer of Silverlon silver-plated nylon technology\, together with the New Century Art Guild\, will cohost a Veterans Day Art Show open to the community on Friday\, Nov. 12\, from 6 to 8 p.m. at the Geneva American Legion Post 75\, 22 S 2nd St. The Veterans Day Art Show will feature the work of retired U.S. Army Sgt. Mario Lopez\, a wounded warrior\, Purple Heart recipient\, and artist whose work is featured nationwide in galleries\, museums\, military bases\, government buildings and even in the offices of U.S. Presidents. Other local veteran artists Michael Bever\, Larry Orsborn\, Ricky Tavitas and Salvatore Dazzo will also be featured. \n  \nSgt. Mario Lopez will be on hand at the Veterans Day Art Show to talk about his artwork and his experiences. Motivated by the September 11 attacks\, Lopez joined the Army in 2003 and was deployed to both Iraq and Afghanistan. During a mission in 2008 in Afghanistan\, he was seriously injured when the vehicle he was riding in hit an improvised explosive device (IED) and it detonated. Sgt. Lopez’ battle buddies acted quickly\, pulling him from the burning vehicle. \n  \nHe sustained burns over 54% of his body and lost his right arm\, vision in his right eye and four fingers on his left hand. Sgt. Lopez underwent multiple skin grafts and surgeries to reconstruct his face\, left hand\, and right foot. Throughout his recovery\, Lopez was treated with Silverlon silver-plated nylon wound dressing as an instrumental part of his recovery. \nSilverlon dressings are critical in preventing infection on wound or burn victims. Silverlon dressings have 50 to 100 times more metallic silver ions than other silver-impregnated dressings\, which make them highly effective at preventing infection. \nDuring his recovery\, Sgt. Lopez who was awarded the Purple Heart\, turned to painting as part of his healing. After losing his dominant right arm\, Mario thought he would never paint again. However\, in July 2011\, he picked up a paintbrush with his left hand\, started making strokes across the canvas\, and has not stopped since. \n“Sgt. Lopez paintings are a testament to his resilience and the resilience of our military heroes on Veterans Day.” said Raul Brizuela\, president and CEO of Argentum Medical. “His artwork is a source of inspiration today and for years to come. We are proud to honor Veterans Day this way.” \nDespite great adversity\, Mario has a positive attitude toward life\, a strong faith in God\, and a desire to bring hope to those viewing his works. In fact\, in August 2021\, Sgt. Mario Lopez previously visited Argentum Medical to unveil and dedicate a painting to Argentum Medical\, the creators of Silverlon\, which helped save him. The painting (see photos) is a stylized image of the American flag on canvas and will hang at Argentum for all time.  In addition\, Sgt. Lopez met with Illinois Congresswoman and Vice Chair of the Homeland Security Committee\, Lauren Underwood.  During the visit\, Lopez and leaders at Argentum Medical connected with Underwood to talk about the impact Argentum Medical’s Silverlon\, a critical medical device used throughout the U.S. Military and included in the Strategic National Stockpile\, has attributed to the care Lopez received during his recovery and the need for use during national emergencies. \nOriginally developed for military combat burn and blast injuries\, SILVERLON antimicrobial technology is now used throughout the U.S. Military – and in civilian operating rooms and hospitals around the world. Multiple\, peer-reviewed\, published clinical studies have shown the significant benefits of SILVERLON in a wide variety of surgical\, wound and burn-care settings. SILVERLON is recognized by the Federal Drug Administration for use on first- and second-degree burns\, partial and full thickness wounds and most recently\, sulfur-mustard burns. In addition\, SILVERLON® dressings are used today by surgeons and other healthcare professionals around the world on surgical wounds\, in negative pressure wound therapy\, on chronic wounds\, burns\, skin grafts\, and IV and catheter-related wounds. \nABOUT SILVERLON \nSILVERLON® wound dressings have a permanently plated metallic surface\, which provides the antimicrobial benefits of silver in the dressing without staining the skin and without increasing bioburden. SILVERLON® was originally developed for the U.S. military\, where it is still extensively used for management of burn and blast injuries. SILVERLON® dressings are used today by surgeons and other healthcare professionals around the world on surgical wounds\, in negative pressure wound therapy\, on chronic wounds\, burns\, skin grafts\, and IV and catheter-related wounds. For more\, visit Silverlon.com\n \nABOUT ARGENTUM MEDICAL \nArgentum Medical pioneered the use of silver-plated nylon. Specializing in the development of innovative products made from silver-plated nylon\, the companies continue to explore new applications and markets for SILVERLON® technology in keeping with their corporate mission to improve clinical outcomes. \nABOUT THE NEW CENTURY ART GUILD \nNew Century Art Guild\, Inc\, is a 501(c)(3) non-profit corporation with the primary mission to provide training in art and business education to motivated military veteran artists so they may successfully pursue new careers in the fine arts as artists\, teachers\, or administrators. A powerful side benefit from these activities is a substantial reduction of the depression associated with PTSD and the re-integration of these veterans into a fulfilling and useful role in civilian society. For more\, visit http://newcenturyartguild.org
URL:https://newcenturyartguild.org/event/ncag-co-sponsors-veterans-day-art-exhibition-in-chicagoland-area/
LOCATION:Geneva\, Geneva\, United States
END:VEVENT
BEGIN:VEVENT
DTSTART;TZID=UTC:20210529T010000
DTEND;TZID=UTC:20210529T180000
DTSTAMP:20260423T150619
CREATED:20210426T143147Z
LAST-MODIFIED:20210426T143240Z
UID:1347-1622250000-1622311200@newcenturyartguild.org
SUMMARY:NCAG DOES TIVOLIFEST 2021!
DESCRIPTION:Join us for a fun Saturday afternoon with the Polka Police and Tie-Dye T-shirt making workshop!
URL:https://newcenturyartguild.org/event/ncag-does-tivolifest-2021/
LOCATION:NCAG CANTEEN GALLERY & WORKSPACE\, 4142 Main Street\, Elk Horn\, IA\, 51531\, United States
END:VEVENT
BEGIN:VEVENT
DTSTART;VALUE=DATE:20200520
DTEND;VALUE=DATE:20200521
DTSTAMP:20260423T150619
CREATED:20200424T162024Z
LAST-MODIFIED:20200424T162043Z
UID:1242-1589932800-1590019199@newcenturyartguild.org
SUMMARY:OMAHA GIVES 2020!
DESCRIPTION:LINK to our OMAHA GIVES Page and DONATION SITE: \nhttps://www.omahagives.org/NewCenturyArtGuild/overview \n 
URL:https://newcenturyartguild.org/event/omaha-gives-2020/
LOCATION:ONLINE!
END:VEVENT
BEGIN:VEVENT
DTSTART;TZID=UTC:20191211T180000
DTEND;TZID=UTC:20191211T210000
DTSTAMP:20260423T150619
CREATED:20191020T181815Z
LAST-MODIFIED:20191020T181815Z
UID:1210-1576087200-1576098000@newcenturyartguild.org
SUMMARY:Vet-X-Press Creative Workshop #6 -- Repousse Copper Victorian Decoration
DESCRIPTION:Use copper tooling and patina techniques to create a vintage looking two-sided ornament to hang from your holiday tree or festive garland!
URL:https://newcenturyartguild.org/event/vet-x-press-creative-workshop-6-repousse-copper-victorian-decoration/
LOCATION:Bellevue Univeristy MVSC\, 2108 Harvell Cir.\, Bellevue \, 68005
END:VEVENT
BEGIN:VEVENT
DTSTART;TZID=UTC:20191204T180000
DTEND;TZID=UTC:20191204T210000
DTSTAMP:20260423T150619
CREATED:20191020T181328Z
LAST-MODIFIED:20191020T181328Z
UID:1209-1575482400-1575493200@newcenturyartguild.org
SUMMARY:Vet-X-Press Creative Workshop #5 -- The Illuminated Ornament
DESCRIPTION:Create a one-of a kind holiday ornament\, then use the power of AAA batteries and mini-lights to illuminate your sparkling ornament …perfect as a Christmas tree-topper or as a gift! \n 
URL:https://newcenturyartguild.org/event/vet-x-press-creative-workshop-5-the-illuminated-ornament/
LOCATION:Bellevue Univeristy MVSC\, 2108 Harvell Cir.\, Bellevue \, 68005
END:VEVENT
BEGIN:VEVENT
DTSTART;TZID=UTC:20191120T180000
DTEND;TZID=UTC:20191120T210000
DTSTAMP:20260423T150619
CREATED:20191020T181212Z
LAST-MODIFIED:20191020T181212Z
UID:1208-1574272800-1574283600@newcenturyartguild.org
SUMMARY:Vet-X-Press Creative Workshop #4 -- Screen Writing Basics
DESCRIPTION:Write from your own experience or from your wildest imagination to bring characters and scenes to life. Join others in a “table-reading” of your scripts.
URL:https://newcenturyartguild.org/event/vet-x-press-creative-workshop-4-screen-writing-basics/
LOCATION:Bellevue Univeristy MVSC\, 2108 Harvell Cir.\, Bellevue \, 68005
END:VEVENT
BEGIN:VEVENT
DTSTART;TZID=UTC:20191113T180000
DTEND;TZID=UTC:20191113T210000
DTSTAMP:20260423T150619
CREATED:20191020T181052Z
LAST-MODIFIED:20191020T181052Z
UID:1207-1573668000-1573678800@newcenturyartguild.org
SUMMARY:Vet-X-Press Creative Workshop #3 --The Gestures of Life - Model Drawing 101
DESCRIPTION:Use charcoal\, toned paper and other drawing mediums to capture the gestures of a living model. Learn to see drawing in a new way!
URL:https://newcenturyartguild.org/event/vet-x-press-creative-workshop-3-the-gestures-of-life-model-drawing-101/
LOCATION:Bellevue Univeristy MVSC\, 2108 Harvell Cir.\, Bellevue \, 68005
END:VEVENT
BEGIN:VEVENT
DTSTART;TZID=UTC:20191111T180000
DTEND;TZID=UTC:20191111T210000
DTSTAMP:20260423T150619
CREATED:20191111T000736Z
LAST-MODIFIED:20191111T000736Z
UID:1226-1573495200-1573506000@newcenturyartguild.org
SUMMARY:NCAG VETERAN DAY CELEBRATION AND AUCTION WRAP-UP AT BRICKWAY BREWERY
DESCRIPTION:Join us at Omaha Old Market’s Brickway Brewery to celebrate the contribution of the men and women who have worn the uniform of military service for our nation! We will also celebrate the conclusion of our first online auction that supports NCAG programs!
URL:https://newcenturyartguild.org/event/ncag-veteran-day-celebration-and-auction-wrap-up-at-brickway-brewery/
LOCATION:Brickway Brewery\, 1116 Jackson St.\, Omaha\, NE\, United States
END:VEVENT
BEGIN:VEVENT
DTSTART;TZID=UTC:20191106T180000
DTEND;TZID=UTC:20191106T210000
DTSTAMP:20260423T150619
CREATED:20191020T180935Z
LAST-MODIFIED:20191020T180935Z
UID:1206-1573063200-1573074000@newcenturyartguild.org
SUMMARY:Vet-X-Press Creative Workshop #2 -- Thank-a-Vet Long-Sleeve T-Shirt Design
DESCRIPTION:Celebrate this Veterans Day season by designing a long-sleeve T-Shirt design that pays homage to the men and women who proudly served in uniform.
URL:https://newcenturyartguild.org/event/vet-x-press-creative-workshop-2-thank-a-vet-long-sleeve-t-shirt-design/
LOCATION:Bellevue Univeristy MVSC\, 2108 Harvell Cir.\, Bellevue \, 68005
END:VEVENT
BEGIN:VEVENT
DTSTART;TZID=UTC:20191101T180000
DTEND;TZID=UTC:20191101T210000
DTSTAMP:20260423T150619
CREATED:20191014T213710Z
LAST-MODIFIED:20191020T214209Z
UID:1196-1572631200-1572642000@newcenturyartguild.org
SUMMARY:NCAG ART EXHIBITION AND ART AUCTION - BENSON FIRST FRIDAY
DESCRIPTION:New Century Art Guild invites you to participate in a Benson November First Friday art exhibition and art auction that supports the sale of regional artists and is also a fundraiser for our various art programs. \nThere will be an exciting online auction component\, too. The exhibition and online auction will run Nov. 1st to 11th at Greenlight Natural CBD\, culminating at a party at BrickWay Brewery in the Old Market on Veterans Day. \nHere is a link to online silent auction: \nhttps://www.charityauctionstoday.com/auctions/New-Century-Art-Guild-Veterans-Day-Art-Auction-9345 \n 
URL:https://newcenturyartguild.org/event/ncag-art-exhibition-and-art-auction-benson-first-friday/
LOCATION:Greenlight Natural CBD\, 7016 Maple Street \, Omaha\, NE\, 68104\, United States
END:VEVENT
BEGIN:VEVENT
DTSTART;TZID=UTC:20191030T180000
DTEND;TZID=UTC:20191030T210000
DTSTAMP:20260423T150619
CREATED:20191020T180821Z
LAST-MODIFIED:20191020T180821Z
UID:1205-1572458400-1572469200@newcenturyartguild.org
SUMMARY:Vet-X-Press Creative Workshop#1 --Ghosts\, Ghouls and Gauze!
DESCRIPTION:I thought I saw a gh-gh-gh-ghost! Use simply constructed armatures draped with plaster gauze and painted ghoulishly to create Halloween décor for your house or your trick-or treaters! \n 
URL:https://newcenturyartguild.org/event/vet-x-press-creative-workshop1-ghosts-ghouls-and-gauze/
LOCATION:Bellevue Univeristy MVSC\, 2108 Harvell Cir.\, Bellevue \, 68005
END:VEVENT
BEGIN:VEVENT
DTSTART;TZID=UTC:20191023T180000
DTEND;TZID=UTC:20191023T200000
DTSTAMP:20260423T150619
CREATED:20191020T180615Z
LAST-MODIFIED:20191020T181955Z
UID:1204-1571853600-1571860800@newcenturyartguild.org
SUMMARY:FALL ART SERIES KICK-OFF AND OPEN HOUSE
DESCRIPTION:Join us to snack and regroup for our next series of art-making at Bellevue University’s MVSC! \n 
URL:https://newcenturyartguild.org/event/fall-art-series-kick-off-and-open-house/
LOCATION:Bellevue Univeristy MVSC\, 2108 Harvell Cir.\, Bellevue \, 68005
END:VEVENT
BEGIN:VEVENT
DTSTART;TZID=UTC:20190814T180000
DTEND;TZID=UTC:20190814T210000
DTSTAMP:20260423T150619
CREATED:20190730T184714Z
LAST-MODIFIED:20190730T184714Z
UID:1187-1565805600-1565816400@newcenturyartguild.org
SUMMARY:VET-X-PRESS CREATIVE WORKSHOP #9 -- The Twisted Tee
DESCRIPTION:Use Batik and Tie-dye techniques to make one-of-a-kind colorful embellishments to t-shirts.
URL:https://newcenturyartguild.org/event/vet-x-press-creative-workshop-9-the-twisted-tee/
LOCATION:Bellevue Univeristy MVSC\, 2108 Harvell Cir.\, Bellevue \, 68005
END:VEVENT
BEGIN:VEVENT
DTSTART;TZID=UTC:20190807T180000
DTEND;TZID=UTC:20190807T210000
DTSTAMP:20260423T150619
CREATED:20190730T184537Z
LAST-MODIFIED:20190730T184548Z
UID:1186-1565200800-1565211600@newcenturyartguild.org
SUMMARY:VET-X-PRESS CREATIVE WORKSHOP #8 -- Zen Rock Garden
DESCRIPTION:Create a miniature “rock garden” inspired by ancient Japanese Zen gardeners. Rake and rearrange your garden’s natural elements whenever you feel stressed out!
URL:https://newcenturyartguild.org/event/vet-x-press-creative-workshop-8-zen-rock-garden/
LOCATION:Bellevue Univeristy MVSC\, 2108 Harvell Cir.\, Bellevue \, 68005
END:VEVENT
BEGIN:VEVENT
DTSTART;TZID=UTC:20190731T180000
DTEND;TZID=UTC:20190731T210000
DTSTAMP:20260423T150619
CREATED:20190730T184423Z
LAST-MODIFIED:20190730T184423Z
UID:1185-1564596000-1564606800@newcenturyartguild.org
SUMMARY:VET-X-PRESS CREATIVE WORKSHOP #7 --Landscape Design
DESCRIPTION:Using colorful drawing and collage\, re-imagine the natural setting of your backyard or other outdoor space. Be as fanciful or as serious as you’d like with your designs.
URL:https://newcenturyartguild.org/event/vet-x-press-creative-workshop-7-landscape-design/
LOCATION:Bellevue Univeristy MVSC\, 2108 Harvell Cir.\, Bellevue \, 68005
END:VEVENT
BEGIN:VEVENT
DTSTART;TZID=UTC:20190717T180000
DTEND;TZID=UTC:20190717T210000
DTSTAMP:20260423T150619
CREATED:20190612T171027Z
LAST-MODIFIED:20190612T171027Z
UID:1178-1563386400-1563397200@newcenturyartguild.org
SUMMARY:VET-X-PRESS CREATIVITY WORKSHOP #5-- No Place Like Home – Veteran Writing Workshop
DESCRIPTION:Use writing prompts and other creative cues to generate heartfelt writing that soothes the soul and inspires others! \n 
URL:https://newcenturyartguild.org/event/vet-x-press-creativity-workshop-5-no-place-like-home-veteran-writing-workshop/
LOCATION:Bellevue Univeristy MVSC\, 2108 Harvell Cir.\, Bellevue \, 68005
END:VEVENT
BEGIN:VEVENT
DTSTART;TZID=UTC:20190710T180000
DTEND;TZID=UTC:20190710T210000
DTSTAMP:20260423T150619
CREATED:20190612T170903Z
LAST-MODIFIED:20190612T170903Z
UID:1177-1562781600-1562792400@newcenturyartguild.org
SUMMARY:VET-X-PRESS CREATIVITY WORKSHOP #4-- Cast Aluminum Sculpture
DESCRIPTION:Work with microcrystalline sculpting wax to create small hand-held size sculptures that will be cast in aluminum. We will partner with Bruning Studios to make our casts.
URL:https://newcenturyartguild.org/event/vet-x-press-creativity-workshop-4-cast-aluminum-sculpture/
LOCATION:Bellevue Univeristy MVSC\, 2108 Harvell Cir.\, Bellevue \, 68005
END:VEVENT
END:VCALENDAR