BEGIN:VCALENDAR
VERSION:2.0
PRODID:-//Welcome to NEW CENTURY ART GUILD - ECPv6.9.0//NONSGML v1.0//EN
CALSCALE:GREGORIAN
METHOD:PUBLISH
X-ORIGINAL-URL:https://newcenturyartguild.org
X-WR-CALDESC:Events for Welcome to NEW CENTURY ART GUILD
REFRESH-INTERVAL;VALUE=DURATION:PT1H
X-Robots-Tag:noindex
X-PUBLISHED-TTL:PT1H
BEGIN:VTIMEZONE
TZID:UTC
BEGIN:STANDARD
TZOFFSETFROM:+0000
TZOFFSETTO:+0000
TZNAME:UTC
DTSTART:20160101T000000
END:STANDARD
END:VTIMEZONE
BEGIN:VEVENT
DTSTART;TZID=UTC:20170615T180000
DTEND;TZID=UTC:20170615T210000
DTSTAMP:20260424T061730
CREATED:20170510T163449Z
LAST-MODIFIED:20170510T163449Z
UID:942-1497549600-1497560400@newcenturyartguild.org
SUMMARY:Vet-X-Press #11 – Claymation Nation -- Stop-Action Animation
DESCRIPTION:Use drawings or small objects\, including colorful animation clay\, to create your own moving reality. Work as a team\, or teams\, to create hilarious short animated videos!
URL:https://newcenturyartguild.org/event/vet-x-press-11-claymation-nation-stop-action-animation/
LOCATION:Bellevue Univeristy MVSC\, 2108 Harvell Cir.\, Bellevue \, 68005
END:VEVENT
BEGIN:VEVENT
DTSTART;TZID=UTC:20170601T180000
DTEND;TZID=UTC:20170601T210000
DTSTAMP:20260424T061730
CREATED:20170510T163342Z
LAST-MODIFIED:20170510T163342Z
UID:941-1496340000-1496350800@newcenturyartguild.org
SUMMARY:Vet-X-Press #10 – Edible Art –Sushi Making
DESCRIPTION:Learn the delicious art of assembling and rolling your own sushi…share your creations with other members of the group\, or savor for yourself! Veggies\, seafood\, rice and even sizzling beef will be part of your artistic palette!
URL:https://newcenturyartguild.org/event/vet-x-press-10-edible-art-sushi-making/
LOCATION:Bellevue Univeristy MVSC\, 2108 Harvell Cir.\, Bellevue \, 68005
END:VEVENT
BEGIN:VEVENT
DTSTART;TZID=UTC:20170525T180000
DTEND;TZID=UTC:20170525T210000
DTSTAMP:20260424T061730
CREATED:20170510T163230Z
LAST-MODIFIED:20170510T163230Z
UID:940-1495735200-1495746000@newcenturyartguild.org
SUMMARY:Vet-X-Press #9 – One Hit Wonders!
DESCRIPTION: Find out how to turn your thoughts and emotions into a meaningful folk or blues song.  Learn some basic techniques of songwriting and music composition. A professional band will even perform your brand new song!
URL:https://newcenturyartguild.org/event/vet-x-press-9-one-hit-wonders/
LOCATION:Bellevue Univeristy MVSC\, 2108 Harvell Cir.\, Bellevue \, 68005
END:VEVENT
BEGIN:VEVENT
DTSTART;TZID=UTC:20170520T130000
DTEND;TZID=UTC:20170520T200000
DTSTAMP:20260424T061730
CREATED:20170510T030006Z
LAST-MODIFIED:20170510T030006Z
UID:932-1495285200-1495310400@newcenturyartguild.org
SUMMARY:FUNCTIONAL ART AND CAR SHOW
DESCRIPTION:Come join us for an afternoon of fun! \n \nPOETRY IN MOTION: An Exhibition of Functional Art\nMay 20th – July 10th\, 2017 \nNew Century Art Guild\nRotert Memorial Art Gallery\n105 East Mission Ave.\nBellevue NE\, 68005 \nOpening Reception:\nSaturday\, May 20th\, 2017 1-8 pm\nCAR SHOW presented by Demon Pac: 1-4 pm
URL:https://newcenturyartguild.org/event/functional-art-and-car-show/
LOCATION:Rotert Memorial Art Gallery\, 105 East Mission Ave.\, Bellevue\, NE\, 68005\, United States
END:VEVENT
BEGIN:VEVENT
DTSTART;TZID=UTC:20170518T180000
DTEND;TZID=UTC:20170518T210000
DTSTAMP:20260424T061730
CREATED:20170510T163053Z
LAST-MODIFIED:20170510T163120Z
UID:939-1495130400-1495141200@newcenturyartguild.org
SUMMARY:Vet-X-Press #8 -- Kinetic Art: The Art of Motion
DESCRIPTION:Be inspired by artists such as Alexander Calder and Joseph Cornell to create poetry in motion. Use wire\, wood and other materials to create 3-D kinetic sculptures and mobiles.
URL:https://newcenturyartguild.org/event/vet-x-press-8-kinetic-art-the-art-of-motion/
LOCATION:Bellevue Univeristy MVSC\, 2108 Harvell Cir.\, Bellevue \, 68005
END:VEVENT
BEGIN:VEVENT
DTSTART;TZID=UTC:20170427T180000
DTEND;TZID=UTC:20170427T210000
DTSTAMP:20260424T061730
CREATED:20170404T162946Z
LAST-MODIFIED:20170404T162946Z
UID:920-1493316000-1493326800@newcenturyartguild.org
SUMMARY:Vet-X-Press Creativity Workshop-The Jeweled Canvas
DESCRIPTION:Work with transferred designs\, paint stencils and artistic beads to make exquisite seed-bead paintings suitable for framing.
URL:https://newcenturyartguild.org/event/vet-x-press-creativity-workshop-the-jeweled-canvas/
LOCATION:Bellevue Univeristy MVSC\, 2108 Harvell Cir.\, Bellevue \, 68005
END:VEVENT
BEGIN:VEVENT
DTSTART;TZID=UTC:20170420T180000
DTEND;TZID=UTC:20170420T210000
DTSTAMP:20260424T061730
CREATED:20170404T162816Z
LAST-MODIFIED:20170404T162816Z
UID:919-1492711200-1492722000@newcenturyartguild.org
SUMMARY:Vet-X-Press Creativity Workshop-Live! Improv Acting 101
DESCRIPTION:Learn the basics about improvisational acting!  Learn how to borrow from your own experience to create believable characters that can be funny or serious. Use simple acting techniques bring your scene to life!
URL:https://newcenturyartguild.org/event/vet-x-press-creativity-workshop-live-improv-acting-101/
LOCATION:Bellevue Univeristy MVSC\, 2108 Harvell Cir.\, Bellevue \, 68005
END:VEVENT
BEGIN:VEVENT
DTSTART;TZID=UTC:20170417T083000
DTEND;TZID=UTC:20170417T170000
DTSTAMP:20260424T061730
CREATED:20170410T225808Z
LAST-MODIFIED:20170411T003329Z
UID:921-1492417800-1492448400@newcenturyartguild.org
SUMMARY:NCAG TO CO-HOST ARMY ONE-SOURCE SYMPOSIUM AT BELLEVUE GALLERY
DESCRIPTION:NCAG\, Army One Source and Nebraska State Alliances will co-host a provider symposium focused on building Nebraska’s capacity to support military personnel and families. Subject-matter experts will address the needs of current and former service members\, their families providing insight and offering resources to better support Nebraska’s military population. The event is free and open to the public. \nOn Monday April 17\, 2017 a group of key organizations\, including Army OneSource\, will host a community provider symposium with experts from around the state. For those who work in the critical areas of behavioral health\, finance\, employment\, legal and faith\, it’s an opportunity to gain an understanding of the unique needs of our\nmilitary population\, explore reintegration challenges and learn about resources available to support those who serve or have served our nation. \nKeynote speaker\, Senator John McCollister will kick off the event at the Fraternal Order of Eagles Lodge at 8:30 a.m. Breakout sessions will start shortly after and continue until 4:00 p.m. at both the Rotert Memorial Art Gallery and the Eagles Lodge. \nThe goal of the symposium is to bring community leaders together to educate\, share ideas and provide tools to address the challenges faced by our Service members\, their Families and Veterans. \nWe have a tremendous day scheduled with four breakout sessions and presentations from experts across the state. Some of the guest speakers include: \n• Troy Muller\,  NCAG Art Director\n• Brandy Wallar\, Clinical Director & Development\, New Visions Homeless Services\n• Chaplain Phillip Houser\, State Chaplain\, Nebraska National Guard\n• Elizabeth Yearwood\, Economic Development Specialist\, Small Business Administration\n• Jack Hogston\, Financial Coach\, Consumer Financial Protection Bureau\n• Jim Cada\, Managing Partner\, Cada Cada Hoffman & Jewson\n• Salle Stewart\, Owner\, The 700 Score Company\n• Teresa Perez\, Regional Manager\, Federal Deposit Insurance Corporation\n• Thomas Ewin\, Community Liaison Military and Veteran Affairs\, City of Omaha Mayor’s Office \nContact:\nFor more information\, contact Greg Marino\, Army OneSource (AOS) State Community Support Coordinator\, at 314-456-3978 or email: gmarino@afsc.com.  An agenda and other materials relevant to the symposium are available upon request. \n 
URL:https://newcenturyartguild.org/event/ncag-to-co-host-army-one-source-symposium-at-bellevue-gallery/
LOCATION:Rotert Memorial Art Gallery\, 105 East Mission Ave.\, Bellevue\, NE\, 68005\, United States
END:VEVENT
BEGIN:VEVENT
DTSTART;TZID=UTC:20170406T180000
DTEND;TZID=UTC:20170406T210000
DTSTAMP:20260424T061730
CREATED:20170404T162547Z
LAST-MODIFIED:20170404T162547Z
UID:918-1491501600-1491512400@newcenturyartguild.org
SUMMARY:Vet-X-Press Workshop #4 --Faberge Eggs: Painted Wooden Easter Eggs
DESCRIPTION:Use gold\, jewel-like paint colors and fine tipped brushes to paint exquisite designs onto permanent decorative eggs that you can put in your own basket or give as Easter gifts!  \n 
URL:https://newcenturyartguild.org/event/vet-x-press-workshop-4-faberge-eggs-painted-wooden-easter-eggs/
LOCATION:Bellevue Univeristy MVSC\, 2108 Harvell Cir.\, Bellevue \, 68005
END:VEVENT
BEGIN:VEVENT
DTSTART;TZID=UTC:20170330T180000
DTEND;TZID=UTC:20170330T210000
DTSTAMP:20260424T061730
CREATED:20170321T012908Z
LAST-MODIFIED:20170321T014612Z
UID:903-1490896800-1490907600@newcenturyartguild.org
SUMMARY:VET-X-PRESS WORKSHOP #3- Fans of Asia Brush Painting
DESCRIPTION:Investigate the medium\, technique\, and philosophy of this classical Asian art form. You will learn the basic brushwork\, sumi-ink application\, and fundamental composition techniques of Asian painting…also we’ll order Chinese food takeout!
URL:https://newcenturyartguild.org/event/vet-x-press-workshop-3-fans-of-asia-brush-painting/
LOCATION:Bellevue Univeristy MVSC\, 2108 Harvell Cir.\, Bellevue \, 68005
END:VEVENT
BEGIN:VEVENT
DTSTART;TZID=UTC:20170323T180000
DTEND;TZID=UTC:20170323T210000
DTSTAMP:20260424T061730
CREATED:20170321T012623Z
LAST-MODIFIED:20170321T012623Z
UID:902-1490292000-1490302800@newcenturyartguild.org
SUMMARY:VET-X-PRESS WORKSHOP #2- You’re a Character! Cartooning for T-shirt Design
DESCRIPTION:Invent your own super-hero or draw funny characters from your imagination. Design an eye-catching comic character for yourself or a buddy…and get it printed on your own wearable T-shirt!
URL:https://newcenturyartguild.org/event/vet-x-press-workshop-2-youre-a-character-cartooning-for-t-shirt-design/
LOCATION:Bellevue Univeristy MVSC\, 2108 Harvell Cir.\, Bellevue \, 68005
END:VEVENT
BEGIN:VEVENT
DTSTART;TZID=UTC:20170308T060000
DTEND;TZID=UTC:20170308T210000
DTSTAMP:20260424T061730
CREATED:20170222T021019Z
LAST-MODIFIED:20170222T021257Z
UID:881-1488952800-1489006800@newcenturyartguild.org
SUMMARY:My Sister’s Smile - International Women’s Day Photo Exhibition
DESCRIPTION:Images: LEFT\, Danielle Hane\, RIGHT\, Somaia Ramish\nCouncil Bluffs\, IA\, and Herat\, Afghanistan Sister Cities\nin partnership with New Century Art Guild\, Karadah\nProject International\, and Veterans for American Ideals\npresent women photographers artfully documenting\nmoments of their daily lives through the medium of\nphotography imparting perspective of each other’s\nculture–underscoring the commonality of our lives overall. \nOpening Reception beginning at 6:00 – 9:00pm\nWednesday March 8\, 2017 \nAt Iowa Western Community College Arts Center\n2700 College Road\, Council Bluffs IA\, 51503 \nA Screening and Panel Discussion of the\ndocumentary Salam Neighbor begins at 7pm. \nLight refreshments will be served.
URL:https://newcenturyartguild.org/event/my-sisters-smile-international-womens-day-photo-exhibition/
LOCATION:Iowa Western Community College Art Center\, 2700 College Road\, Council Bluffs\, 51503\, United States
END:VEVENT
BEGIN:VEVENT
DTSTART;TZID=UTC:20170222T180000
DTEND;TZID=UTC:20170222T210000
DTSTAMP:20260424T061730
CREATED:20170101T172345Z
LAST-MODIFIED:20170101T172345Z
UID:858-1487786400-1487797200@newcenturyartguild.org
SUMMARY:VET-X-PRESS CREATIVE WORKSHOP #12 - “Take Two!”- Acting and Editing for Video
DESCRIPTION:Learn some basics about acting and how to transform short video clips into a compelling drama fit for YouTube! Learn how to borrow from your own experience to create believable characters that can be funny or serious. Use simple acting and video editing techniques bring your scene to life!
URL:https://newcenturyartguild.org/event/vet-x-press-creative-workshop-12-take-two-acting-and-editing-for-video/
LOCATION:Bellevue Univeristy MVSC\, 2108 Harvell Cir.\, Bellevue \, 68005
END:VEVENT
BEGIN:VEVENT
DTSTART;TZID=UTC:20170215T180000
DTEND;TZID=UTC:20170215T210000
DTSTAMP:20260424T061730
CREATED:20170101T172231Z
LAST-MODIFIED:20170101T172231Z
UID:857-1487181600-1487192400@newcenturyartguild.org
SUMMARY:VET-X-PRESS CREATIVE WORKSHOP #11 - One Hit Wonders!
DESCRIPTION:Find out how to turn your thoughts and emotions into a meaningful folk or blues song. Learn some basic techniques of songwriting and music composition. A professional band will even perform your brand new song.  If you are a musician yourself\, bring your favorite instrument…and be prepared to jam!
URL:https://newcenturyartguild.org/event/vet-x-press-creative-workshop-11-one-hit-wonders/
LOCATION:Bellevue Univeristy MVSC\, 2108 Harvell Cir.\, Bellevue \, 68005
END:VEVENT
BEGIN:VEVENT
DTSTART;TZID=UTC:20170208T180000
DTEND;TZID=UTC:20170208T210000
DTSTAMP:20260424T061730
CREATED:20170101T172100Z
LAST-MODIFIED:20170101T172100Z
UID:856-1486576800-1486587600@newcenturyartguild.org
SUMMARY:VET-X-PRESS CREATIVE WORKSHOP #10 - Handmade Valentines
DESCRIPTION:We will use embossing and printmaking techniques to make festive and lovely Valentines Day cards to wish our friends and family a happy V-Day! We will also send some of our finished cards to our active troops to let them know they are loved and missed!
URL:https://newcenturyartguild.org/event/vet-x-press-creative-workshop-10-handmade-valentines/
LOCATION:Bellevue Univeristy MVSC\, 2108 Harvell Cir.\, Bellevue \, 68005
END:VEVENT
BEGIN:VEVENT
DTSTART;TZID=UTC:20170201T180000
DTEND;TZID=UTC:20170201T210000
DTSTAMP:20260424T061730
CREATED:20170101T171928Z
LAST-MODIFIED:20170101T171928Z
UID:855-1485972000-1485982800@newcenturyartguild.org
SUMMARY:VET-X-PRESS CREATIVE WORKSHOP #9 - Wearable Art– Jewelry
DESCRIPTION:Use glass\, plastic\, and wood beads with leather and elastic thread to create works that can be worn as necklaces\, bracelets and as other cool pieces of handmade jewelry.
URL:https://newcenturyartguild.org/event/vet-x-press-creative-workshop-9-wearable-art-jewelry/
LOCATION:Bellevue Univeristy MVSC\, 2108 Harvell Cir.\, Bellevue \, 68005
END:VEVENT
BEGIN:VEVENT
DTSTART;TZID=UTC:20170125T180000
DTEND;TZID=UTC:20170125T210000
DTSTAMP:20260424T061730
CREATED:20170101T171635Z
LAST-MODIFIED:20170101T172546Z
UID:854-1485367200-1485378000@newcenturyartguild.org
SUMMARY:VET-X-PRESS CREATIVE WORKSHOP #8 - Edible Art –Sushi Making
DESCRIPTION:Learn the delicious art of assembling and rolling your own sushi…share your creations with other members of the group\, or savor for yourself! Veggies\, seafood\, rice and even sizzling beef will be part of your artistic palette!
URL:https://newcenturyartguild.org/event/vet-x-press-creative-workshop-8-edible-art-sushi-making/
LOCATION:Bellevue Univeristy MVSC\, 2108 Harvell Cir.\, Bellevue \, 68005
END:VEVENT
BEGIN:VEVENT
DTSTART;TZID=UTC:20170118T180000
DTEND;TZID=UTC:20170118T210000
DTSTAMP:20260424T061730
CREATED:20170101T171511Z
LAST-MODIFIED:20170101T171511Z
UID:853-1484762400-1484773200@newcenturyartguild.org
SUMMARY:VET-X-PRESS CREATIVE WORKSHOP #7 - Ceramic Fun!
DESCRIPTION:“It’s Yours Pottery” is an Omaha-based paint-your-own-pottery and glass fusion studio that will lead this exciting ceramic workshop. We will create art that is both decorative and usable!
URL:https://newcenturyartguild.org/event/vet-x-press-creative-workshop-7-ceramic-fun/
LOCATION:Bellevue Univeristy MVSC\, 2108 Harvell Cir.\, Bellevue \, 68005
END:VEVENT
BEGIN:VEVENT
DTSTART;TZID=UTC:20170111T180000
DTEND;TZID=UTC:20170111T210000
DTSTAMP:20260424T061730
CREATED:20170101T171338Z
LAST-MODIFIED:20170101T171338Z
UID:852-1484157600-1484168400@newcenturyartguild.org
SUMMARY:VET-X-PRESS CREATIVE WORKSHOP #6 - Barn Quilt Kaleidoscope
DESCRIPTION:Winter is upon us\, so warm up your barn\, or house\, with a “barn quilt” square! Use colorful precut shapes and panels to create vivid designs worthy of framing. Mix colors and patterns to make mesmerizing patterns that will delight your inner Midwesterner!
URL:https://newcenturyartguild.org/event/vet-x-press-creative-workshop-6-barn-quilt-kaleidoscope/
LOCATION:Bellevue Univeristy MVSC\, 2108 Harvell Cir.\, Bellevue \, 68005
END:VEVENT
BEGIN:VEVENT
DTSTART;TZID=UTC:20170104T180000
DTEND;TZID=UTC:20170104T210000
DTSTAMP:20260424T061730
CREATED:20170101T171147Z
LAST-MODIFIED:20170101T171713Z
UID:851-1483552800-1483563600@newcenturyartguild.org
SUMMARY:VET-X-PRESS CREATIVE WORKSHOP #5 - Stencil Painting on Canvas
DESCRIPTION:In this workshop we will use patterns and designs cut into oil-board stencils to create intricate and layered abstract paintings. Even our paint brushes are specially designed for this unique and entertaining form of paint handling.
URL:https://newcenturyartguild.org/event/vet-x-press-creative-workshop-4-stencil-painting-on-canvas/
LOCATION:Bellevue Univeristy MVSC\, 2108 Harvell Cir.\, Bellevue \, 68005
END:VEVENT
BEGIN:VEVENT
DTSTART;TZID=UTC:20161218T170000
DTEND;TZID=UTC:20161218T210000
DTSTAMP:20260424T061730
CREATED:20161118T221321Z
LAST-MODIFIED:20161119T185236Z
UID:833-1482080400-1482094800@newcenturyartguild.org
SUMMARY:"HOME FOR THE HOLIDAYS" OPENING RECEPTION AND HOLIDAY PARTY
DESCRIPTION:New Century Art Guild wishes to honor your family’s experience of military service\, sacrifice\, deployment\, and homecoming by exhibiting your family photos\, letters\, uniforms and memorabilia. We will celebrate your loved ones at a warm and heartfelt holiday party in the Rotert Memorial Art  Gallery in Olde Towne Bellevue\, NE. Food\, drink\, music and merriment will be provided! \nFeel free to bring images or items before\, during or after the opening reception\, anytime while the exhibition is up\, until January 31st\, 2017. \nITEMS TO BRING:\n• Photos –B&W or color photos of your family’s service member(s) at home or abroad\n• Uniforms –dress uniforms\, fatigues\, helmets\, covers\, boots\, etc.\n• Memorabilia – folded flags\, medals\, buttons\, souvenirs\, headstone rubbings\, etc.\n• Letters and Flatwork –handwritten or typed letters to or from loved ones\, war posters\, leaflets\, etc. \nDISPLAY OPTIONS: \no Drop off your items during gallery hours or designated time. (Regular drop-off times: Sundays 2pm-4pm November – January) \no Feel free to create your own presentation board or shadowbox \nTIPS:\n• Please label EACH loaned item (such as the back of photos) with your name and contact info. \n• Interested in displaying items from all periods of military history –please indicate if your service member was killed in action or was a POW. \n• All images/ letters /items should be appropriate for all viewers. \n• All efforts will be made to keep your item(s) safe…Include only items that you are comfortable sharing within the context of public exhibition: \no High quality copies of photos are better than originals\no No weapons\, guns\, swords\, bayonets\, etc. can be exhibited due to safety concerns.\no Include items of sentimental value only please (no items of high monetary value!)
URL:https://newcenturyartguild.org/event/home-for-the-holidays-openning-reception-and-holiday-party/
LOCATION:Rotert Memorial Art Gallery\, 105 East Mission Ave.\, Bellevue\, NE\, 68005\, United States
END:VEVENT
BEGIN:VEVENT
DTSTART;TZID=UTC:20161214T180000
DTEND;TZID=UTC:20161214T210000
DTSTAMP:20260424T061730
CREATED:20161202T232717Z
LAST-MODIFIED:20161202T232717Z
UID:842-1481738400-1481749200@newcenturyartguild.org
SUMMARY:VET-X-PRESS WINTER CREATIVE WORKSHOPS- #2 --Deck the Halls- Ornament Making
DESCRIPTION:Use tinsel\, evergreen\, paint\, glitter and other trimmings to give sparkle to your own unique handmade ornaments. Give them as gifts or use them decorate your tree\, your mantle –or decorate the MVSC!
URL:https://newcenturyartguild.org/event/vet-x-press-winter-creative-workshops-2-deck-the-halls-ornament-making/
LOCATION:Bellevue Univeristy MVSC\, 2108 Harvell Cir.\, Bellevue \, 68005
END:VEVENT
BEGIN:VEVENT
DTSTART;TZID=UTC:20161207T180000
DTEND;TZID=UTC:20161207T210000
DTSTAMP:20260424T061730
CREATED:20161202T232538Z
LAST-MODIFIED:20161202T232538Z
UID:841-1481133600-1481144400@newcenturyartguild.org
SUMMARY:VET-X-PRESS WINTER CREATIVE WORKSHOPS- #1 -- Seasons Greetings! --Handmade Cards!
DESCRIPTION:Use colorful papers\, holiday-themed stickers and designs to create unique Christmas cards and illustrated letters. Send Holiday wishes to family\, friends and send a card to our active troops. Give the wonderful gift of handmade holiday cards!
URL:https://newcenturyartguild.org/event/vet-x-press-winter-creative-workshops-1-seasons-greetings-handmade-cards/
LOCATION:Bellevue Univeristy MVSC\, 2108 Harvell Cir.\, Bellevue \, 68005
END:VEVENT
BEGIN:VEVENT
DTSTART;TZID=UTC:20161130T180000
DTEND;TZID=UTC:20161130T210000
DTSTAMP:20260424T061730
CREATED:20161118T220235Z
LAST-MODIFIED:20161118T220235Z
UID:832-1480528800-1480539600@newcenturyartguild.org
SUMMARY:VET-X-PRESS CREATIVITY WORKSHOP- "TOTALLY TUBULAR" INSTALLATION ART
DESCRIPTION:“Totally Tubular” Fiber Art Installation ….Radically change an interior or exterior space using elemental art materials such as craft paper\, yarn and tape. Work individually\, then as a group\, to create avant-garde sculpture constructions that will temporarily transform our workspace.
URL:https://newcenturyartguild.org/event/vet-x-press-creativity-workshop-totally-tubular-installation-art/
LOCATION:Bellevue Univeristy MVSC\, 2108 Harvell Cir.\, Bellevue \, 68005
END:VEVENT
BEGIN:VEVENT
DTSTART;TZID=UTC:20161105T100000
DTEND;TZID=UTC:20161105T140000
DTSTAMP:20260424T061730
CREATED:20160205T013415Z
LAST-MODIFIED:20160908T175026Z
UID:624-1478340000-1478354400@newcenturyartguild.org
SUMMARY:Artpost Exhibition & Military Family Day
DESCRIPTION:A day of exhibitions and fun workshops will be available to military  and veteran families. The event will be co-sponsored by NCAG and Joslyn Art Museum in Omaha\, NE.\nJoin us as Joslyn and NCAG commemorate the contribution of our community’s veteran and military families and debuts an exhibition of artworks created by local veterans working in tandem with professional artists. Free and open to all\, the event will feature a panel presentation by members of the Artpost project; a screening and Q&A of Project 22\, a documentary raising awareness and hope regarding veterans and suicide; docent-guided tours exploring war and peace in art; hands-on art activities including a collaborative project celebrating freedom; and information about opportunities and community resources available to support military and veteran families. A lively performance of patriotic music by a United States Air Force Heartland of America Band ensemble will cap the day! All galleries will be open for viewing; individuals and families with military ID will receive free entry to the ticketed exhibition Dirt Meridian: Photographs by Andrew Moore. Visit joslyn.org for a complete schedule.\nAbout the Artpost Project: \nArtpost is a partnership between Joslyn Art Museum and New Century Art Guild\, a non-profit organization that offers professional\, recreational\, and therapeutic services to veterans and their families through the medium of art. In June\, professional artists and veterans were paired in the spirit of friendship and mentorship. Since then\, the ten matches have met to share personal narratives and to work together to create art for a culminating exhibition. Choice of art content and the format for collaboration were left open to each pair. Come and see the results – and meet the artists! – at Military Family Day. The Artpost exhibition will remain on view in Joslyn’s community gallery (lower level\, Memorial building)\, through December 31.
URL:https://newcenturyartguild.org/event/military-and-veteran-family-fun-day/
LOCATION:Joslyn Art Museum\, 2200 Dodge St. \, Omaha
END:VEVENT
BEGIN:VEVENT
DTSTART;TZID=UTC:20161102T180000
DTEND;TZID=UTC:20161102T210000
DTSTAMP:20260424T061730
CREATED:20161014T182729Z
LAST-MODIFIED:20161014T182729Z
UID:820-1478109600-1478120400@newcenturyartguild.org
SUMMARY:VET-X-PRESS CREATIVE WORKSHOP #9 -- – Steam Punk Assemblages
DESCRIPTION:Join the futuristic/anachronistic biomechanical world– a place where science and art intersect. Use metal foil\, leather straps and brass rivets to create works that members of this art subculture will surely appreciate!
URL:https://newcenturyartguild.org/event/vet-x-press-creative-workshop-9-steam-punk-assemblages/
LOCATION:Bellevue Univeristy MVSC\, 2108 Harvell Cir.\, Bellevue \, 68005
END:VEVENT
BEGIN:VEVENT
DTSTART;TZID=UTC:20161026T180000
DTEND;TZID=UTC:20161026T210000
DTSTAMP:20260424T061730
CREATED:20161014T181235Z
LAST-MODIFIED:20161014T181235Z
UID:819-1477504800-1477515600@newcenturyartguild.org
SUMMARY:VET-X-PRESS CREATIVE WORKSHOP #8 -- Ghoulish Halloween Mask-Making
DESCRIPTION:Breathe life into a 3-dimensional character mask that you invent from your own imagination. From a concept sketch\, you will create an armature that you will overlay with fast-drying plaster gauze. Finally\, you’ll paint your new “ghoulish self” with colorful acrylic paints.
URL:https://newcenturyartguild.org/event/vet-x-press-creative-workshop-8-ghoulish-halloween-mask-making/
LOCATION:Bellevue Univeristy MVSC\, 2108 Harvell Cir.\, Bellevue \, 68005
END:VEVENT
BEGIN:VEVENT
DTSTART;TZID=UTC:20161019T180000
DTEND;TZID=UTC:20161019T210000
DTSTAMP:20260424T061730
CREATED:20161014T181007Z
LAST-MODIFIED:20161014T181007Z
UID:818-1476900000-1476910800@newcenturyartguild.org
SUMMARY:VET-X-PRESS CREATIVE WORKSHOP #7 --Exquisite Corpse (and other Victorian Parlor Games!)
DESCRIPTION:Create “exquisite corpse” figures\, “doodlebugs”\, and other “automatic” art-making techniques\, puzzles and Victorian parlor games to create unexpected and hilarious results!
URL:https://newcenturyartguild.org/event/vet-x-press-creative-workshop-7-exquisite-corpse-and-other-victorian-parlor-games/
LOCATION:Bellevue Univeristy MVSC\, 2108 Harvell Cir.\, Bellevue \, 68005
END:VEVENT
BEGIN:VEVENT
DTSTART;TZID=UTC:20161019T170000
DTEND;TZID=UTC:20161019T210000
DTSTAMP:20260424T061730
CREATED:20161016T155948Z
LAST-MODIFIED:20161016T165314Z
UID:821-1476896400-1476910800@newcenturyartguild.org
SUMMARY:BENEFIT DINNER FOR VETERAN ART WORKSHOPS OCT. 19th
DESCRIPTION:Enjoy a night out this week while supporting the Vet-X-Press creative workshop series at Bellevue University’s MVSC. This highly successful  workshop series helps to heal veterans and their families through the medium of art. Your support is needed to keep the series funded! \nThe menu for the evening includes: \n \nFor Ticket Info please call 605-321-3841 \nOR TO PURCHASE ONLINE OR MAKE ONLINE DONATIONS –please click yellow PayPal button below :
URL:https://newcenturyartguild.org/event/benefit-dinner-for-veteran-art-workhops-oct-19th/
LOCATION:J’s on Jackson Steakhouse and Wine Bar\, 1101 Jackson St\, Omaha\, United States
END:VEVENT
BEGIN:VEVENT
DTSTART;TZID=UTC:20161005T180000
DTEND;TZID=UTC:20161005T210000
DTSTAMP:20260424T061730
CREATED:20161005T194543Z
LAST-MODIFIED:20161005T194543Z
UID:812-1475690400-1475701200@newcenturyartguild.org
SUMMARY:VET-X-PRESS CREATIVITY WORKOP #5--FANS OF ASIA
DESCRIPTION:This workshop is designed for those who are interested in the medium\, technique\, and philosophy of this classical Asian art form. You will learn the basic brushwork\, sumi-ink application\, and fundamental composition techniques of Asian painting and take home a decorated fan.
URL:https://newcenturyartguild.org/event/vet-x-press-creativity-workop-5-fans-of-asia/
LOCATION:Bellevue Univeristy MVSC\, 2108 Harvell Cir.\, Bellevue \, 68005
END:VEVENT
END:VCALENDAR