BEGIN:VCALENDAR
VERSION:2.0
PRODID:-//Welcome to NEW CENTURY ART GUILD - ECPv6.9.0//NONSGML v1.0//EN
CALSCALE:GREGORIAN
METHOD:PUBLISH
X-WR-CALNAME:Welcome to NEW CENTURY ART GUILD
X-ORIGINAL-URL:https://newcenturyartguild.org
X-WR-CALDESC:Events for Welcome to NEW CENTURY ART GUILD
REFRESH-INTERVAL;VALUE=DURATION:PT1H
X-Robots-Tag:noindex
X-PUBLISHED-TTL:PT1H
BEGIN:VTIMEZONE
TZID:UTC
BEGIN:STANDARD
TZOFFSETFROM:+0000
TZOFFSETTO:+0000
TZNAME:UTC
DTSTART:20150101T000000
END:STANDARD
END:VTIMEZONE
BEGIN:VEVENT
DTSTART;TZID=UTC:20160518T180000
DTEND;TZID=UTC:20160518T210000
DTSTAMP:20260424T121208
CREATED:20160322T152513Z
LAST-MODIFIED:20160322T152513Z
UID:661-1463594400-1463605200@newcenturyartguild.org
SUMMARY:V4V SPRING CREATIVE WORKSHOP SERIES #9 -- Steam Punk Assemblages
DESCRIPTION:Join the futuristic/anachronistic biomechanical world– a place where science and art intersect. Use metal foil\, leather straps and brass rivets to create works that members of this art subculture will surely appreciate!
URL:https://newcenturyartguild.org/event/v4v-spring-creative-workshop-series-9-steam-punk-assemblages/
LOCATION:Bellevue Univeristy MVSC\, 2108 Harvell Cir.\, Bellevue \, 68005
END:VEVENT
BEGIN:VEVENT
DTSTART;TZID=UTC:20160511T180000
DTEND;TZID=UTC:20160511T210000
DTSTAMP:20260424T121208
CREATED:20160322T152338Z
LAST-MODIFIED:20160322T152338Z
UID:660-1462989600-1463000400@newcenturyartguild.org
SUMMARY:V4V SPRING CREATIVE WORKSHOP SERIES #8-- Wearable “Tattoo” Designs
DESCRIPTION:Here is your chance to create your own cool tattoo design and have it printed on a blank T-shirt. Not everyone has tattoos\, but who doesn’t like to wear a T-shirt with an awesome design?
URL:https://newcenturyartguild.org/event/v4v-spring-creative-workshop-series-8-wearable-tattoo-designs/
LOCATION:Bellevue Univeristy MVSC\, 2108 Harvell Cir.\, Bellevue \, 68005
END:VEVENT
BEGIN:VEVENT
DTSTART;TZID=UTC:20160504T180000
DTEND;TZID=UTC:20160504T210000
DTSTAMP:20260424T121208
CREATED:20160322T152115Z
LAST-MODIFIED:20160322T152115Z
UID:659-1462384800-1462395600@newcenturyartguild.org
SUMMARY:V4V SPRING CREATIVE WORKSHOP SERIES #7-- Adventures in Texture!
DESCRIPTION:Create an eye-catching abstract painting in just one sitting! Participants will use pre-textured panels as a foundation for adding metallic and colored paint layers. An interesting slide show will demonstrate how to make the most of texture in acrylic painting.
URL:https://newcenturyartguild.org/event/v4v-spring-creative-workshop-series-7-adventures-in-texture/
LOCATION:Bellevue Univeristy MVSC\, 2108 Harvell Cir.\, Bellevue \, 68005
END:VEVENT
BEGIN:VEVENT
DTSTART;TZID=UTC:20160427T180000
DTEND;TZID=UTC:20160427T210000
DTSTAMP:20260424T121208
CREATED:20160322T151943Z
LAST-MODIFIED:20160322T151943Z
UID:658-1461780000-1461790800@newcenturyartguild.org
SUMMARY:V4V SPRING CREATIVE WORKSHOP SERIES #6 -- The Surreal Word
DESCRIPTION:Explore surreal imagery in spoken and written word\, create mysterious and captivating poetry from images that you assemble from your deep unconscious! Several writing prompts will unlock the potential of your imagination!
URL:https://newcenturyartguild.org/event/v4v-spring-creative-workshop-series-6-the-surreal-word/
LOCATION:Bellevue Univeristy MVSC\, 2108 Harvell Cir.\, Bellevue \, 68005
END:VEVENT
BEGIN:VEVENT
DTSTART;TZID=UTC:20160420T180000
DTEND;TZID=UTC:20160420T210000
DTSTAMP:20260424T121208
CREATED:20160322T151747Z
LAST-MODIFIED:20160322T151747Z
UID:657-1461175200-1461186000@newcenturyartguild.org
SUMMARY:V4V SPRING CREATIVE WORKSHOP SERIES #5 -- Exquisite Corpse (and other parlor games!)
DESCRIPTION:Create “exquisite corpse” figures\, “doodlebugs”\, and other “automatic” art-making techniques\, puzzles and Victorian parlor games to create unexpected and hilarious results.
URL:https://newcenturyartguild.org/event/v4v-spring-creative-workshop-series-5-exquisite-corpse-and-other-parlor-games/
LOCATION:Bellevue Univeristy MVSC\, 2108 Harvell Cir.\, Bellevue \, 68005
END:VEVENT
BEGIN:VEVENT
DTSTART;TZID=UTC:20160413T180000
DTEND;TZID=UTC:20160413T210000
DTSTAMP:20260424T121208
CREATED:20160322T151624Z
LAST-MODIFIED:20160322T151624Z
UID:656-1460570400-1460581200@newcenturyartguild.org
SUMMARY:V4V SPRING CREATIVE WORKSHOP SERIES #4 -- Psychedelic Art
DESCRIPTION:Enter a surreal dream world of fluorescent color\, wild patterns and ultraviolet light. Use fractal patterns and optical illusions as your inspiration. Learn about the historical context of this type of pop-art while listening to “far out” music!
URL:https://newcenturyartguild.org/event/v4v-spring-creative-workshop-series-4-psychedelic-art/
LOCATION:Bellevue Univeristy MVSC\, 2108 Harvell Cir.\, Bellevue \, 68005
END:VEVENT
BEGIN:VEVENT
DTSTART;TZID=UTC:20160406T180000
DTEND;TZID=UTC:20160406T210000
DTSTAMP:20260424T121208
CREATED:20160322T150648Z
LAST-MODIFIED:20160322T150648Z
UID:655-1459965600-1459976400@newcenturyartguild.org
SUMMARY:V4V SPRING CREATIVE WORKSHOP SERIES #3 -- The Graphic Novel
DESCRIPTION:Unite words with exciting images of superheroes or silly cartoon characters. Invent your own super-hero or funny characters from your imagination.  Your group can select favorites to share as pages in a small-group edition.
URL:https://newcenturyartguild.org/event/v4v-spring-creative-workshop-series-3-the-graphic-novel/
LOCATION:Bellevue Univeristy MVSC\, 2108 Harvell Cir.\, Bellevue \, 68005
END:VEVENT
BEGIN:VEVENT
DTSTART;TZID=UTC:20160330T180000
DTEND;TZID=UTC:20160330T210000
DTSTAMP:20260424T121208
CREATED:20160322T150221Z
LAST-MODIFIED:20160322T150221Z
UID:654-1459360800-1459371600@newcenturyartguild.org
SUMMARY:V4V SPRING CREATIVE WORKSHOP SERIES #2 -- Russian Nesting Dolls
DESCRIPTION:The Cold War may be over\, but you can still explore the traditional Russian craft of “matryoshka.” Use transfer paper to replicate traditional Russian designs\, or design your own motif of painted nesting wooden figures.
URL:https://newcenturyartguild.org/event/v4v-spring-creative-workshop-series-2-russian-nesting-dolls/
LOCATION:Bellevue Univeristy MVSC\, 2108 Harvell Cir.\, Bellevue \, 68005
END:VEVENT
BEGIN:VEVENT
DTSTART;TZID=UTC:20160323T180000
DTEND;TZID=UTC:20160323T210000
DTSTAMP:20260424T121208
CREATED:20160322T145945Z
LAST-MODIFIED:20160322T145945Z
UID:653-1458756000-1458766800@newcenturyartguild.org
SUMMARY:V4V SPRING CREATIVE WORKSHOP SERIES #1 -- “Totally Tubular” Fiber Art Installation
DESCRIPTION:Radically change an interior or exterior space using elemental art materials such as craft paper\, yarn and tape. Work individually\, then as a group\, to create avant-garde sculpture constructions that will temporarily transform our workspace.
URL:https://newcenturyartguild.org/event/v4v-spring-creative-workshop-series-1-totally-tubular-fiber-art-installation/
LOCATION:Bellevue Univeristy MVSC\, 2108 Harvell Cir.\, Bellevue \, 68005
END:VEVENT
BEGIN:VEVENT
DTSTART;TZID=UTC:20160217T130000
DTEND;TZID=UTC:20160217T140000
DTSTAMP:20260424T121208
CREATED:20160211T162850Z
LAST-MODIFIED:20160211T162850Z
UID:646-1455714000-1455717600@newcenturyartguild.org
SUMMARY:COMMEMORATION FOR NCAG DONATED STATUES EVENT AT OMAHA V.A.
DESCRIPTION:The commemoration of five permanently installed military statues\, each representing a branch of US military service\, and donated in large part by NCAG will occur at 1pm on Wednesday\, February 17th in the Main Lobby  of the Omaha VA Hospital. The event is free and open to the public.
URL:https://newcenturyartguild.org/event/commemoration-for-ncag-donated-statues-event-at-omaha-v-a/
LOCATION:Omaha VA Hospital Lobby\, 4101 Woolworth Ave.\, Omaha\, 68105\, United States
END:VEVENT
BEGIN:VEVENT
DTSTART;TZID=UTC:20160203T180000
DTEND;TZID=UTC:20160203T210000
DTSTAMP:20260424T121208
CREATED:20151210T164013Z
LAST-MODIFIED:20151210T164555Z
UID:622-1454522400-1454533200@newcenturyartguild.org
SUMMARY:V4V CREATIVE WORKSHOP #12 -- WEARABLE “TATTOO” DESIGNS
DESCRIPTION:Here is your chance to make your own cool tattoo design and have it printed on a blank T-shirt. Not everyone has tattoos\, but who\ndoesn’t like to wear a T-shirt with an awesome design?
URL:https://newcenturyartguild.org/event/v4v-creative-workshop-wearable-tattoo-designs/
LOCATION:Bellevue Univeristy MVSC\, 2108 Harvell Cir.\, Bellevue \, 68005
END:VEVENT
BEGIN:VEVENT
DTSTART;TZID=UTC:20160127T180000
DTEND;TZID=UTC:20160127T210000
DTSTAMP:20260424T121208
CREATED:20151210T163742Z
LAST-MODIFIED:20151210T164518Z
UID:621-1453917600-1453928400@newcenturyartguild.org
SUMMARY:V4V CREATIVE WORKSHOP #11 -– VIDEO ANIMATION
DESCRIPTION:Use drawings or small objects\, including colorful animation clay\, to create your own moving reality. Work as a team\, or teams\, to\ncreate hilarious short animated videos!
URL:https://newcenturyartguild.org/event/v4v-creative-workshop-video-animation/
LOCATION:Bellevue Univeristy MVSC\, 2108 Harvell Cir.\, Bellevue \, 68005
END:VEVENT
BEGIN:VEVENT
DTSTART;TZID=UTC:20160120T180000
DTEND;TZID=UTC:20160120T210000
DTSTAMP:20260424T121208
CREATED:20151210T163537Z
LAST-MODIFIED:20151210T164437Z
UID:620-1453312800-1453323600@newcenturyartguild.org
SUMMARY:V4V CREATIVE WORKSHOP #10 --MANDALA SAND PAINTING
DESCRIPTION:Work like Tibetan monks to create a vivid and temporary “painting” using chalk and colored sand. This centuries-old meditation\ntechnique is a great way to relax and work as a team while creating incredible abstract art!
URL:https://newcenturyartguild.org/event/v4v-creative-workshop-mandala-sand-painting/
LOCATION:Bellevue Univeristy MVSC\, 2108 Harvell Cir.\, Bellevue \, 68005
END:VEVENT
BEGIN:VEVENT
DTSTART;TZID=UTC:20160113T180000
DTEND;TZID=UTC:20160113T210000
DTSTAMP:20260424T121208
CREATED:20151210T163302Z
LAST-MODIFIED:20151210T164404Z
UID:619-1452708000-1452718800@newcenturyartguild.org
SUMMARY:V4V CREATIVE WORKSHOP #9 – EXPRESSIVE MASK MAKING
DESCRIPTION:What would a self portrait of your alter-ego look like? Visualize your “other” self with plaster gauze and acrylic paints. We will use the\n“transformation masks” of Native Americans of the Northwest U.S. Coastline as inspiration for our own creations.
URL:https://newcenturyartguild.org/event/v4v-creative-workshop-expressive-mask-making/
LOCATION:Bellevue Univeristy MVSC\, 2108 Harvell Cir.\, Bellevue \, 68005
END:VEVENT
BEGIN:VEVENT
DTSTART;TZID=UTC:20160106T180000
DTEND;TZID=UTC:20160106T210000
DTSTAMP:20260424T121208
CREATED:20151210T163032Z
LAST-MODIFIED:20151210T164339Z
UID:618-1452103200-1452114000@newcenturyartguild.org
SUMMARY:V4V CREATIVE WORKSHOP #8-- SCREENWRITING 101
DESCRIPTION:Learn how to write from your own experience and create believable characters. Speak with dialogue that can be funny or serious. Once\nyour script is written\, join others in reading them out load to bring your scene to life.
URL:https://newcenturyartguild.org/event/v4v-creative-workshop-screenwriting-101/
LOCATION:Bellevue Univeristy MVSC\, 2108 Harvell Cir.\, Bellevue \, 68005
END:VEVENT
BEGIN:VEVENT
DTSTART;TZID=UTC:20151216T180000
DTEND;TZID=UTC:20151216T203000
DTSTAMP:20260424T121208
CREATED:20151202T221021Z
LAST-MODIFIED:20151202T221021Z
UID:606-1450288800-1450297800@newcenturyartguild.org
SUMMARY:V4V Creative Workshop #7-- School of Rock!
DESCRIPTION:Come and join the band! Find out how to turn your thoughts and emotions into music.  Learn some basic techniques to writing and playing music.  If you already play\, bring your favorite instrument…and be prepared to jam!
URL:https://newcenturyartguild.org/event/v4v-creative-workshop-7-school-of-rock/
LOCATION:Bellevue Univeristy MVSC\, 2108 Harvell Cir.\, Bellevue \, 68005
END:VEVENT
BEGIN:VEVENT
DTSTART;TZID=UTC:20151209T180000
DTEND;TZID=UTC:20151209T210000
DTSTAMP:20260424T121208
CREATED:20151202T220650Z
LAST-MODIFIED:20151202T220650Z
UID:605-1449684000-1449694800@newcenturyartguild.org
SUMMARY:V4V Art workshop #6 --Fans of Asia Brush Painting
DESCRIPTION:This workshop is designed for those who are interested in the medium\, technique\, and philosophy of this classical Asian art form. You will learn the basic brushwork\, sumi-ink application\, and fundamental composition techniques of Asian painting and take home a decorated fan.
URL:https://newcenturyartguild.org/event/v4v-art-workshop-6-fans-of-asia-brush-painting/
LOCATION:Bellevue Univeristy MVSC\, 2108 Harvell Cir.\, Bellevue \, 68005
END:VEVENT
BEGIN:VEVENT
DTSTART;TZID=UTC:20151111T180000
DTEND;TZID=UTC:20151111T210000
DTSTAMP:20260424T121208
CREATED:20151103T164245Z
LAST-MODIFIED:20151103T164245Z
UID:603-1447264800-1447275600@newcenturyartguild.org
SUMMARY:VETERANS DAY EVENT: VETS-4-VETS CREATIVE WORKSHOP #3 -- "DRUM CIRCLE!"
DESCRIPTION:Wednesday\, Nov. 11\, 6:00 – 9:00 p.m – (Veterans Day) Drum Circle Get swept up by the rhythm! Experiment with different types of drums and percussion instruments. Overlay the groove with spoken poetry. Release your inner beatnik!
URL:https://newcenturyartguild.org/event/veterans-day-event-vets-4-vets-creative-workshop-3-drum-circle/
LOCATION:Bellevue Univeristy MVSC\, 2108 Harvell Cir.\, Bellevue \, 68005
END:VEVENT
BEGIN:VEVENT
DTSTART;TZID=UTC:20151110T143000
DTEND;TZID=UTC:20151110T153000
DTSTAMP:20260424T121208
CREATED:20151012T183217Z
LAST-MODIFIED:20151109T150244Z
UID:573-1447165800-1447169400@newcenturyartguild.org
SUMMARY:4th ANNUAL NCAG VETERAN APPRECIATION EVENT
DESCRIPTION:Ralston Middle School in Ralston\, Nebraska will host New Century Art Guild on Tuesday\, November 10th at 2:30 p.m. for a veteran symposium and presentation by NCAG’s Jim O’Keeffe.  NCAG Artist and Military Consultant Bert Leaverton will also display some of her newest artwork that deals with veteran issues.
URL:https://newcenturyartguild.org/event/4th-annual-ncag-veteran-appreciation-event/
LOCATION:Ralston Middle School\, 8202 Lakeview Street\,  Ralston\, 68127\, United States
END:VEVENT
BEGIN:VEVENT
DTSTART;TZID=UTC:20151104T180000
DTEND;TZID=UTC:20151104T210000
DTSTAMP:20260424T121208
CREATED:20151103T163939Z
LAST-MODIFIED:20151103T163939Z
UID:602-1446660000-1446670800@newcenturyartguild.org
SUMMARY:VETS-4-VETS CREATIVE WORKSHOP #2-- "ADVENTURES IN TEXTURE!"
DESCRIPTION:Wednesday\, Nov. 4\, 6:00 – 9:00 p.m – Adventures in Texture! Create an eye-catching abstract painting in just one sitting! Participants will use pre-textured panels as a foundation for adding metallic and colored paint layers. An interesting slide show will demonstrate how to make the most of texture in acrylic painting. Canvas boards and paints will be provided!
URL:https://newcenturyartguild.org/event/vets-4-vets-creative-workshop-2-adventures-in-texture/
LOCATION:Bellevue Univeristy MVSC\, 2108 Harvell Cir.\, Bellevue \, 68005
END:VEVENT
BEGIN:VEVENT
DTSTART;TZID=UTC:20151028T180000
DTEND;TZID=UTC:20151028T210000
DTSTAMP:20260424T121208
CREATED:20151012T184048Z
LAST-MODIFIED:20151012T185433Z
UID:575-1446055200-1446066000@newcenturyartguild.org
SUMMARY:VETS-4-VETS "CREATIVE EXPRESSIONS" WORKSHOP SERIES
DESCRIPTION:V4V “Art Expressions” Creative Workshops FALL/WINTER 2015 Series. Located at Bellevue Veteran Center (located at S.W. corner of Harvell Dr. and Herman Dr. on west side of Bellevue University’s campus) \nHave fun with your fellow veterans and family members! Join Vets4Vets’ “Art Expressions”\, a peer support group of Military Veterans interested in the common goal of sharing experiences\, “venting” and just hangin’ out. In these workshops\, you will use a different artistic media each week. All experience levels are welcome and no previous art experience is required! You have a lot to say…express yourself through art!! \nOur Topic for Wednesday\, Oct. 28\, 6:00 – 9:00 p.m: \nBarn Quilt Kaleidoscope Autumn is here\, so warm up your barn\, or house\, with a “barn quilt” square! Use colorful precut shapes and panels to create vivid designs worthy of framing. Mix colors and patterns to make mesmerizing patterns that will delight your inner Midwesterner!
URL:https://newcenturyartguild.org/event/vete-4-vets-creative-expressions-workshop-series/
LOCATION:Bellevue Univeristy MVSC\, 2108 Harvell Cir.\, Bellevue \, 68005
END:VEVENT
END:VCALENDAR