BEGIN:VCALENDAR
VERSION:2.0
PRODID:-//Welcome to NEW CENTURY ART GUILD - ECPv6.9.0//NONSGML v1.0//EN
CALSCALE:GREGORIAN
METHOD:PUBLISH
X-WR-CALNAME:Welcome to NEW CENTURY ART GUILD
X-ORIGINAL-URL:https://newcenturyartguild.org
X-WR-CALDESC:Events for Welcome to NEW CENTURY ART GUILD
REFRESH-INTERVAL;VALUE=DURATION:PT1H
X-Robots-Tag:noindex
X-PUBLISHED-TTL:PT1H
BEGIN:VTIMEZONE
TZID:UTC
BEGIN:STANDARD
TZOFFSETFROM:+0000
TZOFFSETTO:+0000
TZNAME:UTC
DTSTART:20180101T000000
END:STANDARD
END:VTIMEZONE
BEGIN:VEVENT
DTSTART;TZID=UTC:20190327T180000
DTEND;TZID=UTC:20190327T210000
DTSTAMP:20260423T210637
CREATED:20190320T145631Z
LAST-MODIFIED:20190320T145631Z
UID:1147-1553709600-1553720400@newcenturyartguild.org
SUMMARY:VET-X-PRESS CREATIVE WORKSHOP #8– Charcoal Drawing Selfies
DESCRIPTION:Use “toned ground” methods of charcoal drawing to emulate the “chiaroscuro” effect of the drawing masters to create a study of a cube in charcoal and then a self-portrait in this classic drawing media.
URL:https://newcenturyartguild.org/event/vet-x-press-creative-workshop-8-charcoal-drawing-selfies/
LOCATION:Bellevue Univeristy MVSC\, 2108 Harvell Cir.\, Bellevue \, 68005
END:VEVENT
BEGIN:VEVENT
DTSTART;TZID=UTC:20190320T180000
DTEND;TZID=UTC:20190320T210000
DTSTAMP:20260423T210637
CREATED:20190320T145514Z
LAST-MODIFIED:20190320T145514Z
UID:1146-1553104800-1553115600@newcenturyartguild.org
SUMMARY:VET-X-PRESS CREATIVE WORKSHOP #7– Undercover Art! Bookbinding
DESCRIPTION:Learn the fundamentals of simple bookbinding to create attractive small sketchbooks. We will use decorative marbled papers and natural materials to bind pages into small bound volumes. \n 
URL:https://newcenturyartguild.org/event/vet-x-press-creative-workshop-7-undercover-art-bookbinding/
LOCATION:Bellevue Univeristy MVSC\, 2108 Harvell Cir.\, Bellevue \, 68005
END:VEVENT
BEGIN:VEVENT
DTSTART;TZID=UTC:20190306T180000
DTEND;TZID=UTC:20190306T210000
DTSTAMP:20260423T210637
CREATED:20190215T163903Z
LAST-MODIFIED:20190215T163903Z
UID:1128-1551895200-1551906000@newcenturyartguild.org
SUMMARY:VET-X-PRESS WORKSHOP #5 — Oil Clay #2 - Cast Medallions
DESCRIPTION:Resume work on the sculpted medallions then prepare to cast them in plaster. Afterward\, use paints and patinas to make them look like they’re made of bronze.
URL:https://newcenturyartguild.org/event/vet-x-press-workshop-5-oil-clay-2-cast-medallions/
LOCATION:Bellevue Univeristy MVSC\, 2108 Harvell Cir.\, Bellevue \, 68005
END:VEVENT
BEGIN:VEVENT
DTSTART;TZID=UTC:20190227T180000
DTEND;TZID=UTC:20190227T210000
DTSTAMP:20260423T210637
CREATED:20190215T011343Z
LAST-MODIFIED:20190215T011422Z
UID:1125-1551290400-1551301200@newcenturyartguild.org
SUMMARY:VET-X-PRESS WORKSHOP #4 -- Oil Clay #1- Low Relief Medallions
DESCRIPTION:Create your own medallion sculpture using oil clay and clay carving tools. Make a portrait or animal (or anything!) on the front and back of a large coin. Use inspiring words to further enhance your design.
URL:https://newcenturyartguild.org/event/vet-x-press-workshop-4-oil-clay-1-low-relief-medallions/
LOCATION:Bellevue Univeristy MVSC\, 2108 Harvell Cir.\, Bellevue \, 68005
END:VEVENT
BEGIN:VEVENT
DTSTART;TZID=UTC:20190220T180000
DTEND;TZID=UTC:20190220T210000
DTSTAMP:20260423T210637
CREATED:20190215T011228Z
LAST-MODIFIED:20190215T011228Z
UID:1124-1550685600-1550696400@newcenturyartguild.org
SUMMARY:VET-X-PRESS WORKSHOP #3 -- Oil Painting #2 - Simple Still Life
DESCRIPTION:Return to the basics of oil painting with a small still life using a shadow box\, a viewfinder and several small items under controlled lighting conditions. Come away with a framable oil-on-canvas painting. \n 
URL:https://newcenturyartguild.org/event/vet-x-press-workshop-3-oil-painting-2-simple-still-life/
LOCATION:Bellevue Univeristy MVSC\, 2108 Harvell Cir.\, Bellevue \, 68005
END:VEVENT
BEGIN:VEVENT
DTSTART;TZID=UTC:20190213T060000
DTEND;TZID=UTC:20190213T200000
DTSTAMP:20260423T210637
CREATED:20190205T220505Z
LAST-MODIFIED:20190205T220505Z
UID:1118-1550037600-1550088000@newcenturyartguild.org
SUMMARY:VET-X-PRESS WORKSHOP #2- Valentines Day Cards
DESCRIPTION:It’s not too late to make your sweetie a handmade card that says\, “I love you enough to make you a handmade card! ” Stand back and reap the sweet rewards of a one-of-a-kind valentine card! \n 
URL:https://newcenturyartguild.org/event/vet-x-press-workshop-2-valentines-day-cards/
LOCATION:Bellevue Univeristy MVSC\, 2108 Harvell Cir.\, Bellevue \, 68005
END:VEVENT
BEGIN:VEVENT
DTSTART;TZID=UTC:20190206T180000
DTEND;TZID=UTC:20190206T210000
DTSTAMP:20260423T210637
CREATED:20190205T220256Z
LAST-MODIFIED:20190205T220256Z
UID:1117-1549476000-1549486800@newcenturyartguild.org
SUMMARY:VET-X-PRESS #1 Oil Painting #1 - Color Theory and Mixing
DESCRIPTION:Learn the fundamentals of color theory and how to mix and apply oil paints. Participate in a fun color mixing game …and finally create an attractive color study of an apple on a table in oil paint. \n 
URL:https://newcenturyartguild.org/event/vet-x-press-1-oil-painting-1-color-theory-and-mixing/
LOCATION:Bellevue Univeristy MVSC\, 2108 Harvell Cir.\, Bellevue \, 68005
END:VEVENT
BEGIN:VEVENT
DTSTART;TZID=UTC:20190102T180000
DTEND;TZID=UTC:20190102T210000
DTSTAMP:20260423T210637
CREATED:20181128T023904Z
LAST-MODIFIED:20181128T023904Z
UID:1101-1546452000-1546462800@newcenturyartguild.org
SUMMARY:VET-X-PRESS CREATIVITY WORKSHOP #12- Retro Designs for a New Year
DESCRIPTION:Celebrate years past by designing a totally-tubular eye-catching design using the language and graphics from decades past…and get your designs printed on your own wearable long sleeve T-shirt!
URL:https://newcenturyartguild.org/event/vet-x-press-creativity-workshop-12-retro-designs-for-a-new-year/
LOCATION:Bellevue Univeristy MVSC\, 2108 Harvell Cir.\, Bellevue \, 68005
END:VEVENT
BEGIN:VEVENT
DTSTART;TZID=UTC:20181226T180000
DTEND;TZID=UTC:20181226T210000
DTSTAMP:20260423T210637
CREATED:20181128T023747Z
LAST-MODIFIED:20181128T023747Z
UID:1100-1545847200-1545858000@newcenturyartguild.org
SUMMARY:VET-X-PRESS CREATIVITY WORKSHOP #11- Sip and Paint!
DESCRIPTION:Learn to paint a still life painting on stretched canvas in the manner of the French Post-Impressionist Paul Cézanne or your own unique style!
URL:https://newcenturyartguild.org/event/vet-x-press-creativity-workshop-11-sip-and-paint/
LOCATION:Bellevue Univeristy MVSC\, 2108 Harvell Cir.\, Bellevue \, 68005
END:VEVENT
BEGIN:VEVENT
DTSTART;TZID=UTC:20181219T180000
DTEND;TZID=UTC:20181219T210000
DTSTAMP:20260423T210637
CREATED:20181128T023613Z
LAST-MODIFIED:20181128T023613Z
UID:1099-1545242400-1545253200@newcenturyartguild.org
SUMMARY:VET-X-PRESS CREATIVITY WORKSHOP #10- Twas the Week  before Christmas Party!
DESCRIPTION:Pen your own Christmas songs\, drink hot cocoa\, frost and decorate (and eat) your own sugar cookies\, and enjoy other fun holiday party games!
URL:https://newcenturyartguild.org/event/vet-x-press-creativity-workshop-10-twas-the-week-before-christmas-party/
LOCATION:Bellevue Univeristy MVSC\, 2108 Harvell Cir.\, Bellevue \, 68005
END:VEVENT
BEGIN:VEVENT
DTSTART;TZID=UTC:20181212T180000
DTEND;TZID=UTC:20181212T210000
DTSTAMP:20260423T210637
CREATED:20181128T023455Z
LAST-MODIFIED:20181128T023455Z
UID:1098-1544637600-1544648400@newcenturyartguild.org
SUMMARY:VET-X-PRESS CREATIVITY WORKSHOP #9- Seasons Greetings! Handmade Cards!
DESCRIPTION:Celebrate the holidays by making handmade cards using a smorgasbord of paper crafts and decorative elements. Use colorful papers\, stickers and designs to create unique handmade cards and envelopes!
URL:https://newcenturyartguild.org/event/vet-x-press-creativity-workshop-9-seasons-greetings-handmade-cards/
LOCATION:Bellevue Univeristy MVSC\, 2108 Harvell Cir.\, Bellevue \, 68005
END:VEVENT
BEGIN:VEVENT
DTSTART;TZID=UTC:20181205T180000
DTEND;TZID=UTC:20181205T210000
DTSTAMP:20260423T210637
CREATED:20181128T023049Z
LAST-MODIFIED:20181128T023049Z
UID:1096-1544032800-1544043600@newcenturyartguild.org
SUMMARY:VET-X-PRESS CREATIVITY WORKSHOP #8- Build Your Own Indoor Snowman!
DESCRIPTION:Use newsprint\, plaster gauze\, acrylic paint…and some holiday magic to breathe life into your very own “Frosty the Snowman” table centerpiece!
URL:https://newcenturyartguild.org/event/vet-x-press-creativity-workshop-8-build-your-own-indoor-snowman/
LOCATION:Bellevue Univeristy MVSC\, 2108 Harvell Cir.\, Bellevue \, 68005
END:VEVENT
BEGIN:VEVENT
DTSTART;TZID=UTC:20181128T180000
DTEND;TZID=UTC:20181128T210000
DTSTAMP:20260423T210637
CREATED:20181128T022915Z
LAST-MODIFIED:20181128T022915Z
UID:1095-1543428000-1543438800@newcenturyartguild.org
SUMMARY:VET-X-PRESS CREATIVITY WORKSHOP #7- Deck the Halls! Holiday Ornaments
DESCRIPTION:Use tinsel\, evergreens\, paint\, glitter and other trimmings to give sparkle to your own unique handmade ornaments. Give them as gifts or use them decorate your tree\, your mantle –or decorate the MVSC!
URL:https://newcenturyartguild.org/event/vet-x-press-creativity-workshop-7-deck-the-halls-holiday-ornaments/
LOCATION:Bellevue Univeristy MVSC\, 2108 Harvell Cir.\, Bellevue \, 68005
END:VEVENT
BEGIN:VEVENT
DTSTART;TZID=UTC:20181102T183000
DTEND;TZID=UTC:20181102T213000
DTSTAMP:20260423T210637
CREATED:20180808T234259Z
LAST-MODIFIED:20180808T235854Z
UID:1071-1541183400-1541194200@newcenturyartguild.org
SUMMARY:NCAG CO-SPONSORS "THANK YOU FOR YOUR SERVICE" VETERAN ART SHOW AND RECEPTION\, SAN ANTONIO\, TX
DESCRIPTION:November 2\, 2018 \n–Doors open at 6:30–   Refreshments Served \nTexas A&M University-Patriot’s Casa\nOne\, University Way\, San Antonio\, TX 78224 \nFeaturing Local San Antonio Veteran Artwork spanning multiple genres such as\, Literature\, Photography\, Painting\, Textiles\, Leatherwork and more! \nSpecial guests prolific San Antonio artists\, Lionel Sosa and Jesse Trevino
URL:https://newcenturyartguild.org/event/ncag-co-sponsors-thank-you-for-your-service-veteran-art-show-and-reception-san-antonio-tx/
LOCATION:Patriot’s Casa\, 1 University Way\, Texas A&M University\,  San Antonio\, TX\, 78224\, United States
END:VEVENT
BEGIN:VEVENT
DTSTART;TZID=UTC:20181101T180000
DTEND;TZID=UTC:20181101T210000
DTSTAMP:20260423T210637
CREATED:20180920T010420Z
LAST-MODIFIED:20180920T010420Z
UID:1084-1541095200-1541106000@newcenturyartguild.org
SUMMARY:Vet-X-Press Workshop #5 -- All Saints Day Icons
DESCRIPTION:Create attractive embossed aluminum and copper icons using wood styluses. Use “antiquing” patinas to create the illusion of years of aging and beautiful surface effects. \n 
URL:https://newcenturyartguild.org/event/vet-x-press-workshop-5-all-saints-day-icons/
LOCATION:Bellevue Univeristy MVSC\, 2108 Harvell Cir.\, Bellevue \, 68005
END:VEVENT
BEGIN:VEVENT
DTSTART;TZID=UTC:20181025T180000
DTEND;TZID=UTC:20181025T200000
DTSTAMP:20260423T210637
CREATED:20180920T010100Z
LAST-MODIFIED:20180920T010100Z
UID:1083-1540490400-1540497600@newcenturyartguild.org
SUMMARY:Vet-X-Press Workshop #5 -- Halloween Murder Mystery Party
DESCRIPTION:Was it the butler? The eccentric millionaire? Play along and find out! Also enjoy other ghoulish games and tricky treats! Bring your ghost stories!
URL:https://newcenturyartguild.org/event/vet-x-press-workshop-5-halloween-murder-mystery-party/
LOCATION:Bellevue Univeristy MVSC\, 2108 Harvell Cir.\, Bellevue \, 68005
END:VEVENT
BEGIN:VEVENT
DTSTART;TZID=UTC:20181018T180000
DTEND;TZID=UTC:20181018T210000
DTSTAMP:20260423T210637
CREATED:20180920T005634Z
LAST-MODIFIED:20180920T010646Z
UID:1082-1539885600-1539896400@newcenturyartguild.org
SUMMARY:Vet-X-Press Workshop #4 -- Spooky Etchings!
DESCRIPTION:Create mysterious etching drawings using prepared panels and metal styluses\, adding color with special water-based paints….all while being inspired by the poetic imagery of Edgar Allen Poe and other “ghost” writers!
URL:https://newcenturyartguild.org/event/vet-x-press-workshop-4-spooky-etchings/
LOCATION:Bellevue Univeristy MVSC\, 2108 Harvell Cir.\, Bellevue \, 68005
END:VEVENT
BEGIN:VEVENT
DTSTART;TZID=UTC:20181004T180000
DTEND;TZID=UTC:20181004T210000
DTSTAMP:20260423T210637
CREATED:20180920T005501Z
LAST-MODIFIED:20180920T010608Z
UID:1081-1538676000-1538686800@newcenturyartguild.org
SUMMARY:Vet-X-Press Workshop #3 -- Punkin’ Heads!
DESCRIPTION:Get into the Halloween spirit by creating a funny or spooky pumpkin painting… Makes a great centerpiece for your own ghoulish Halloween table display!
URL:https://newcenturyartguild.org/event/vet-x-press-workshop-3-punkin-heads/
LOCATION:Bellevue Univeristy MVSC\, 2108 Harvell Cir.\, Bellevue \, 68005
END:VEVENT
BEGIN:VEVENT
DTSTART;TZID=UTC:20180927T180000
DTEND;TZID=UTC:20180927T210000
DTSTAMP:20260423T210637
CREATED:20180920T004917Z
LAST-MODIFIED:20180920T004917Z
UID:1080-1538071200-1538082000@newcenturyartguild.org
SUMMARY:Vet-X-Press Workshop #2 -- Retro Designs for Long Sleeve T-Shirts
DESCRIPTION:Design a totally-tubular eye-catching design using the language and graphics from decades past…and get your designs printed on your own wearable long sleeve T-shirt!
URL:https://newcenturyartguild.org/event/vet-x-press-workshop-2-retro-designs-for-long-sleeve-t-shirts/
LOCATION:Bellevue Univeristy MVSC\, 2108 Harvell Cir.\, Bellevue \, 68005
END:VEVENT
BEGIN:VEVENT
DTSTART;TZID=UTC:20180920T180000
DTEND;TZID=UTC:20180920T210000
DTSTAMP:20260423T210637
CREATED:20180920T004650Z
LAST-MODIFIED:20180920T004650Z
UID:1079-1537466400-1537477200@newcenturyartguild.org
SUMMARY:Vet-X-Press Workshop #1 -- For the Birds! Tricked-out Birdhouses
DESCRIPTION:Create an attractive home for the birds around your home. Use wood trim pieces and acrylic paints to create a mini-mansion for our fine feathered friends!
URL:https://newcenturyartguild.org/event/vet-x-press-workshop-1-for-the-birds-tricked-out-birdhouses/
LOCATION:Bellevue Univeristy MVSC\, 2108 Harvell Cir.\, Bellevue \, 68005
END:VEVENT
BEGIN:VEVENT
DTSTART;TZID=UTC:20180725T180000
DTEND;TZID=UTC:20180725T210000
DTSTAMP:20260423T210637
CREATED:20180622T153208Z
LAST-MODIFIED:20180622T153409Z
UID:1068-1532541600-1532552400@newcenturyartguild.org
SUMMARY:VET-X-PRESS VETERAN CREATIVITY WORKSHOP #12 - Pet Rocks!
DESCRIPTION:Create unusual painted designs that respond to the natural shapes of stones. Create animals\, faces or abstract designs!
URL:https://newcenturyartguild.org/event/vet-x-press-creativity-workshop-12-pet-rocks/
LOCATION:Bellevue Univeristy MVSC\, 2108 Harvell Cir.\, Bellevue \, 68005
END:VEVENT
BEGIN:VEVENT
DTSTART;TZID=UTC:20180718T180000
DTEND;TZID=UTC:20180718T210000
DTSTAMP:20260423T210637
CREATED:20180622T153027Z
LAST-MODIFIED:20180622T153344Z
UID:1067-1531936800-1531947600@newcenturyartguild.org
SUMMARY:VET-X-PRESS VETERAN CREATIVITY WORKSHOP #11 - The Ekphrastic Poem
DESCRIPTION:This group will have a unique opportunity to combine visual art with poetry. Participants will create collages and use them as “prompts” to create unique poetry that can be shared or kept.
URL:https://newcenturyartguild.org/event/vet-x-press-creativity-workshop-11-the-ekphrastic-poem/
LOCATION:Bellevue Univeristy MVSC\, 2108 Harvell Cir.\, Bellevue \, 68005
END:VEVENT
BEGIN:VEVENT
DTSTART;TZID=UTC:20180711T180000
DTEND;TZID=UTC:20180711T210000
DTSTAMP:20260423T210637
CREATED:20180622T152835Z
LAST-MODIFIED:20180622T153315Z
UID:1066-1531332000-1531342800@newcenturyartguild.org
SUMMARY:VET-X-PRESS VETERAN CREATIVITY WORKSHOP #10 - The Illustrated Letter
DESCRIPTION:Use rubber stamps and doodles to send interesting mailings to friends and family. Bring your address book!
URL:https://newcenturyartguild.org/event/vet-x-press-creativity-workshop-10-the-illustrated-letter/
LOCATION:Bellevue Univeristy MVSC\, 2108 Harvell Cir.\, Bellevue \, 68005
END:VEVENT
BEGIN:VEVENT
DTSTART;TZID=UTC:20180627T180000
DTEND;TZID=UTC:20180627T210000
DTSTAMP:20260423T210637
CREATED:20180607T154759Z
LAST-MODIFIED:20180607T154759Z
UID:1061-1530122400-1530133200@newcenturyartguild.org
SUMMARY:VET-X-PRESS VETERAN CREATIVITY WORKSHOP #9 - Cornell’s Dream Boxes
DESCRIPTION:Explore the surreal world of Joseph Cornell while creating a captivating homage to this visionary artist that combined collage and assemblage techniques.
URL:https://newcenturyartguild.org/event/vet-x-press-veteran-creativity-workshop-9-cornells-dream-boxes/
LOCATION:Bellevue Univeristy MVSC\, 2108 Harvell Cir.\, Bellevue \, 68005
END:VEVENT
BEGIN:VEVENT
DTSTART;TZID=UTC:20180623T110000
DTEND;TZID=UTC:20180623T160000
DTSTAMP:20260423T210637
CREATED:20180419T152759Z
LAST-MODIFIED:20180622T155723Z
UID:1038-1529751600-1529769600@newcenturyartguild.org
SUMMARY:SUMMER PARTY AND RIBBON CUTTING OF NCAG's CANTEEN GALLERY
DESCRIPTION:Join us for an afternoon and evening of fun as NCAG celebrates the official ribbon cutting of its new gallery and workspace in downtown Elk Horn\, IA. Enjoy grilled food\, music\, art workshops and then head to the Danish Museum for more fun\, including exhibits and a bonfire. \nActivities include: art workshops (for all ages)\n                            photo ops with a live bald eagle\n                            veteran art display\n                            military vehicle display\n                            rock balancing demonstration by artist Peter Juhl\n                            free food and drink\n                            music (live or otherwise)\n\nParty to continue up the street with our friends and partners\,  The Museum of Danish America\,  with their midsummer festival (their doors open at 10am as well).
URL:https://newcenturyartguild.org/event/grand-opening-of-new-ncag-gallery-in-elk-horn-ia/
LOCATION:NCAG CANTEEN GALLERY & WORKSPACE\, 4142 Main Street\, Elk Horn \, IA\, 51531\, United States
END:VEVENT
BEGIN:VEVENT
DTSTART;TZID=UTC:20180620T180000
DTEND;TZID=UTC:20180620T210000
DTSTAMP:20260423T210637
CREATED:20180607T154602Z
LAST-MODIFIED:20180607T154602Z
UID:1059-1529517600-1529528400@newcenturyartguild.org
SUMMARY:VET-X-PRESS VETERAN CREATIVITY WORKSHOP #8 - The Funny Pages
DESCRIPTION:Learn about drawing cartoons and comics. Invent your own super-hero or draw funny characters from your imagination. Select your favorites to print in a small-group edition.
URL:https://newcenturyartguild.org/event/vet-x-press-veteran-creativity-workshop-8-the-funny-pages/
LOCATION:Bellevue Univeristy MVSC\, 2108 Harvell Cir.\, Bellevue \, 68005
END:VEVENT
BEGIN:VEVENT
DTSTART;TZID=UTC:20180613T180000
DTEND;TZID=UTC:20180613T210000
DTSTAMP:20260423T210637
CREATED:20180607T154440Z
LAST-MODIFIED:20180607T154440Z
UID:1058-1528912800-1528923600@newcenturyartguild.org
SUMMARY:VET-X-PRESS VETERAN CREATIVITY WORKSHOP #7 -Picasso’s Palette
DESCRIPTION:Explore the facets of Cubist painting techniques using multiple abstract painting strategies. Walk away with a Cubist masterpiece!
URL:https://newcenturyartguild.org/event/vet-x-press-veteran-creativity-workshop-7-picassos-palette/
LOCATION:Bellevue Univeristy MVSC\, 2108 Harvell Cir.\, Bellevue \, 68005
END:VEVENT
BEGIN:VEVENT
DTSTART;TZID=UTC:20180606T180000
DTEND;TZID=UTC:20180606T210000
DTSTAMP:20260423T210637
CREATED:20180503T183619Z
LAST-MODIFIED:20180503T183619Z
UID:1047-1528308000-1528318800@newcenturyartguild.org
SUMMARY:VET-X-PRESS CREATIVITY WORKSHOP #6 -- Sands of Normandy
DESCRIPTION:Honor the veterans of D-Day by creating a vivid and temporary “painting” using chalk and colored sand. This centuries-old meditation technique is a great way to reflect and work as a team to create an incredible abstract artwork!
URL:https://newcenturyartguild.org/event/vet-x-press-creativity-workshop-6-sands-of-normandy/
LOCATION:Bellevue Univeristy MVSC\, 2108 Harvell Cir.\, Bellevue \, 68005
END:VEVENT
BEGIN:VEVENT
DTSTART;TZID=UTC:20180530T180000
DTEND;TZID=UTC:20180530T210000
DTSTAMP:20260423T210637
CREATED:20180503T183459Z
LAST-MODIFIED:20180503T183459Z
UID:1046-1527703200-1527714000@newcenturyartguild.org
SUMMARY:VET-X-PRESS CREATIVITY WORKSHOP #5 -- Combat Paper-Papermaking
DESCRIPTION:Inspired by a project developed by Iraq War veterans trying to process their experiences through the art of paper making. We will mash writings and other materials into pulp to create sheets of hand-made paper
URL:https://newcenturyartguild.org/event/vet-x-press-creativity-workshop-5-combat-paper-papermaking/
LOCATION:Bellevue Univeristy MVSC\, 2108 Harvell Cir.\, Bellevue \, 68005
END:VEVENT
BEGIN:VEVENT
DTSTART;TZID=UTC:20180527T120000
DTEND;TZID=UTC:20180527T170000
DTSTAMP:20260423T210637
CREATED:20180419T152242Z
LAST-MODIFIED:20180522T192922Z
UID:1037-1527422400-1527440400@newcenturyartguild.org
SUMMARY:NCAG HOSTS TIVOLIFEST ACTIVITIES\, FOOD AND FUN!
DESCRIPTION:NCAG will provide the center of activities for Tivolifest 2018 in the Danish Villages in Iowa on Sunday May 27th! See veteran art and hear the awesome Polka Police…food\, art and fun!!
URL:https://newcenturyartguild.org/event/ncag-hosts-tivoli-activities-food-and-fun/
LOCATION:NCAG CANTEEN GALLERY & WORKSPACE\, 4142 Main Street\, Elk Horn\, IA\, 51531\, United States
END:VEVENT
END:VCALENDAR