BEGIN:VCALENDAR
VERSION:2.0
PRODID:-//Welcome to NEW CENTURY ART GUILD - ECPv6.9.0//NONSGML v1.0//EN
CALSCALE:GREGORIAN
METHOD:PUBLISH
X-ORIGINAL-URL:https://newcenturyartguild.org
X-WR-CALDESC:Events for Welcome to NEW CENTURY ART GUILD
REFRESH-INTERVAL;VALUE=DURATION:PT1H
X-Robots-Tag:noindex
X-PUBLISHED-TTL:PT1H
BEGIN:VTIMEZONE
TZID:UTC
BEGIN:STANDARD
TZOFFSETFROM:+0000
TZOFFSETTO:+0000
TZNAME:UTC
DTSTART:20170101T000000
END:STANDARD
END:VTIMEZONE
BEGIN:VEVENT
DTSTART;TZID=UTC:20180523T180000
DTEND;TZID=UTC:20180523T210000
DTSTAMP:20260424T013701
CREATED:20180503T183350Z
LAST-MODIFIED:20180503T183350Z
UID:1045-1527098400-1527109200@newcenturyartguild.org
SUMMARY:VET-X-PRESS CREATIVITY WORKSHOP #4 -- Adventures in Texture
DESCRIPTION:Use plaster gauze to pre-texture panels as a foundation for adding metallic and colored paint layers; learn how to make the most of texture in acrylic painting.
URL:https://newcenturyartguild.org/event/vet-x-press-creativity-workshop-4-adventures-in-texture/
LOCATION:Bellevue Univeristy MVSC\, 2108 Harvell Cir.\, Bellevue \, 68005
END:VEVENT
BEGIN:VEVENT
DTSTART;TZID=UTC:20180516T180000
DTEND;TZID=UTC:20180516T210000
DTSTAMP:20260424T013701
CREATED:20180503T183231Z
LAST-MODIFIED:20180503T183231Z
UID:1044-1526493600-1526504400@newcenturyartguild.org
SUMMARY:VET-X-PRESS CREATIVITY WORKSHOP #3 -- Transformation Masks
DESCRIPTION:Visualize your alter-ego with hinged paper masks and acrylic paints. We will use the “transformation masks” of Native Americans of the Northwest Coastline as inspiration for our own kinetic artworks.
URL:https://newcenturyartguild.org/event/vet-x-press-creativity-workshop-3-transformation-masks/
LOCATION:Bellevue Univeristy MVSC\, 2108 Harvell Cir.\, Bellevue \, 68005
END:VEVENT
BEGIN:VEVENT
DTSTART;TZID=UTC:20180509T180000
DTEND;TZID=UTC:20180509T210000
DTSTAMP:20260424T013701
CREATED:20180503T183052Z
LAST-MODIFIED:20180503T183052Z
UID:1043-1525888800-1525899600@newcenturyartguild.org
SUMMARY:VET-X-PRESS CREATIVITY WORKSHOP #2 -- Mothers Day Cards
DESCRIPTION:Honor your special mother with a handmade card using a smorgasbord of paper crafts and decorative elements. Use colorful papers\, stickers and designs to create unique handmade cards and envelopes!
URL:https://newcenturyartguild.org/event/vet-x-press-creativity-workshop-2-mothers-day-cards/
LOCATION:Bellevue Univeristy MVSC\, 2108 Harvell Cir.\, Bellevue \, 68005
END:VEVENT
BEGIN:VEVENT
DTSTART;TZID=UTC:20180411T180000
DTEND;TZID=UTC:20180411T210000
DTSTAMP:20260424T013701
CREATED:20180402T161652Z
LAST-MODIFIED:20180402T161652Z
UID:1026-1523469600-1523480400@newcenturyartguild.org
SUMMARY:Vet-X-Press Creativity Workshop #12 - Edible Art –Sushi Making
DESCRIPTION:Learn the delicious art of rolling your own sushi…share your creations with other members of the group\, or savor for yourself! Veggies\, seafood\, rice and even sizzling beef will be part of your artistic palette!
URL:https://newcenturyartguild.org/event/vet-x-press-creativity-workshop-12-edible-art-sushi-making/
LOCATION:Bellevue Univeristy MVSC\, 2108 Harvell Cir.\, Bellevue \, 68005
END:VEVENT
BEGIN:VEVENT
DTSTART;TZID=UTC:20180407T170000
DTEND;TZID=UTC:20180407T190000
DTSTAMP:20260424T013701
CREATED:20180402T161937Z
LAST-MODIFIED:20180402T161937Z
UID:1027-1523120400-1523127600@newcenturyartguild.org
SUMMARY:NCAG KIMBALLTON GALLERY OPEN HOUSE
DESCRIPTION:
URL:https://newcenturyartguild.org/event/ncag-kimballton-gallery-open-house/
LOCATION:NCAG Kimballton Gallery\, 117 N. Main St.\, Kimballton\, IA\, 51543\, United States
END:VEVENT
BEGIN:VEVENT
DTSTART;TZID=UTC:20180404T180000
DTEND;TZID=UTC:20180404T210000
DTSTAMP:20260424T013701
CREATED:20180402T161328Z
LAST-MODIFIED:20180402T161328Z
UID:1025-1522864800-1522875600@newcenturyartguild.org
SUMMARY:Vet-X-Press Creativity Workshop #11 -Art of the Shadow
DESCRIPTION:Create frame-able self portraits\, or family portraits from projected light and paper. This 18th Century art form will be revived for one night only to capture your “best side”!
URL:https://newcenturyartguild.org/event/vet-x-press-creativity-workshop-11-art-of-the-shadow/
LOCATION:Bellevue Univeristy MVSC\, 2108 Harvell Cir.\, Bellevue \, 68005
END:VEVENT
BEGIN:VEVENT
DTSTART;TZID=UTC:20180321T180000
DTEND;TZID=UTC:20180321T210000
DTSTAMP:20260424T013701
CREATED:20180305T205352Z
LAST-MODIFIED:20180305T205352Z
UID:1009-1521655200-1521666000@newcenturyartguild.org
SUMMARY:VET-X-PRESS CREATIVTY WORKSHOP #9 -- Join the (Wax) Resistance!
DESCRIPTION:Use a variety of oil pastel and painting techniques\, including layering and washes\, to bring vitality to your artwork! Experiment with dry brush\, wet on wet\, masking\, resist and other experimental mixed-media techniques.
URL:https://newcenturyartguild.org/event/vet-x-press-creativty-workshop-9-join-the-wax-resistance/
LOCATION:Bellevue Univeristy MVSC\, 2108 Harvell Cir.\, Bellevue \, 68005
END:VEVENT
BEGIN:VEVENT
DTSTART;TZID=UTC:20180314T180000
DTEND;TZID=UTC:20180314T210000
DTSTAMP:20260424T013701
CREATED:20180305T205229Z
LAST-MODIFIED:20180305T205229Z
UID:1008-1521050400-1521061200@newcenturyartguild.org
SUMMARY:VET-X-PRESS CREATIVTY WORKSHOP #8 -- St. Patty’s Patently Popular Puppets
DESCRIPTION:Make your own lively marionette figure.  Use plaster\, wire\, wood (and maybe some luck-‘o-the-Irish) to create interactive and entertaining 3-D kinetic sculptures.
URL:https://newcenturyartguild.org/event/vet-x-press-creativty-workshop-8-st-pattys-patently-popular-puppets/
LOCATION:Bellevue Univeristy MVSC\, 2108 Harvell Cir.\, Bellevue \, 68005
END:VEVENT
BEGIN:VEVENT
DTSTART;TZID=UTC:20180307T180000
DTEND;TZID=UTC:20180307T210000
DTSTAMP:20260424T013701
CREATED:20180305T205052Z
LAST-MODIFIED:20180305T205052Z
UID:1007-1520445600-1520456400@newcenturyartguild.org
SUMMARY:VET-X-PRESS CREATIVTY WORKSHOP #7--Year of the Dog! Chinese New Year Lanterns
DESCRIPTION:Investigate this classical Asian art form. You will learn the basic brushwork\, sumi-ink application\, and fundamentals of Asian painting…also we’ll order Chinese takeout!
URL:https://newcenturyartguild.org/event/vet-x-press-creativty-workshop-7-year-of-the-dog-chinese-new-year-lanterns/
LOCATION:Bellevue Univeristy MVSC\, 2108 Harvell Cir.\, Bellevue \, 68005
END:VEVENT
BEGIN:VEVENT
DTSTART;TZID=UTC:20180228T180000
DTEND;TZID=UTC:20180228T210000
DTSTAMP:20260424T013701
CREATED:20180111T163827Z
LAST-MODIFIED:20180111T163827Z
UID:996-1519840800-1519851600@newcenturyartguild.org
SUMMARY:VET-X-PRESS CREATIVITY WORKSHOP #6 –Pullin’ Rank! -Origami
DESCRIPTION:Learn (or teach) about the multitude of uniforms\, rank\, ribbons and awards of each branch of US Military service. Also make a small origami paper uniforms to keep or give away!
URL:https://newcenturyartguild.org/event/vet-x-press-creativity-workshop-6-pullin-rank-origami/
LOCATION:Bellevue Univeristy MVSC\, 2108 Harvell Cir.\, Bellevue \, 68005
END:VEVENT
BEGIN:VEVENT
DTSTART;TZID=UTC:20180221T180000
DTEND;TZID=UTC:20180221T210000
DTSTAMP:20260424T013701
CREATED:20180111T163648Z
LAST-MODIFIED:20180111T163648Z
UID:995-1519236000-1519246800@newcenturyartguild.org
SUMMARY:VET-X-PRESS CREATIVITY WORKSHOP #5 –Wearable Art– Jewelry
DESCRIPTION:Use glass\, plastic\, and wood beads with leather and elastic thread to create works that can be worn as necklaces\, bracelets and as other cool pieces of handmade jewelry.
URL:https://newcenturyartguild.org/event/vet-x-press-creativity-workshop-5-wearable-art-jewelry/
LOCATION:Bellevue Univeristy MVSC\, 2108 Harvell Cir.\, Bellevue \, 68005
END:VEVENT
BEGIN:VEVENT
DTSTART;TZID=UTC:20180207T180000
DTEND;TZID=UTC:20180207T210000
DTSTAMP:20260424T013701
CREATED:20180111T163534Z
LAST-MODIFIED:20180111T163534Z
UID:994-1518026400-1518037200@newcenturyartguild.org
SUMMARY:VET-X-PRESS CREATIVITY WORKSHOP #4 –Valentines Day Cards
DESCRIPTION:Honor you loved ones with a handmade card using a smorgasbord of paper crafts and decorative elements. Use colorful papers\, stickers and designs to create unique handmade cards and envelopes!
URL:https://newcenturyartguild.org/event/vet-x-press-creativity-workshop-4-valentines-day-cards/
LOCATION:Bellevue Univeristy MVSC\, 2108 Harvell Cir.\, Bellevue \, 68005
END:VEVENT
BEGIN:VEVENT
DTSTART;TZID=UTC:20180131T060000
DTEND;TZID=UTC:20180131T200000
DTSTAMP:20260424T013701
CREATED:20180111T163406Z
LAST-MODIFIED:20180111T163406Z
UID:993-1517378400-1517428800@newcenturyartguild.org
SUMMARY:VET-X-PRESS CREATIVITY WORKSHOP #3 --Are You Ready to ROCK?!
DESCRIPTION:Find out how to turn your thoughts and emotions into a meaningful folk or blues song. Learn some basic techniques of songwriting and music composition. A professional band will even perform your brand new songs!
URL:https://newcenturyartguild.org/event/vet-x-press-creativity-workshop-3-are-you-ready-to-rock/
LOCATION:Bellevue Univeristy MVSC\, 2108 Harvell Cir.\, Bellevue \, 68005
END:VEVENT
BEGIN:VEVENT
DTSTART;TZID=UTC:20180124T180000
DTEND;TZID=UTC:20180124T210000
DTSTAMP:20260424T013701
CREATED:20180111T163245Z
LAST-MODIFIED:20180111T163245Z
UID:992-1516816800-1516827600@newcenturyartguild.org
SUMMARY:VET-X-PRESS CREATIVITY WORKSHOP #2 --Art Deco Design for T-shirts
DESCRIPTION:Design a dandy eye-catching design within the art and symbolism of the Art Deco period of design…and get your designs printed on your own wearable T-shirt!
URL:https://newcenturyartguild.org/event/vet-x-press-creativity-workshop-2-art-deco-design-for-t-shirts/
LOCATION:Bellevue Univeristy MVSC\, 2108 Harvell Cir.\, Bellevue \, 68005
END:VEVENT
BEGIN:VEVENT
DTSTART;TZID=UTC:20180117T180000
DTEND;TZID=UTC:20180117T210000
DTSTAMP:20260424T013701
CREATED:20180111T163059Z
LAST-MODIFIED:20180111T163059Z
UID:991-1516212000-1516222800@newcenturyartguild.org
SUMMARY:VET-X-PRESS CREATIVITY WORKSHOP #1- Russian Nesting Dolls
DESCRIPTION:The Cold War may be over\, but you can still explore the traditional Russian craft of “matryoshka.” Use transfer paper to replicate traditional Russian designs\, or design your own motif of painted nesting wooden figures.
URL:https://newcenturyartguild.org/event/vet-x-press-creativity-workshop-1-russian-nesting-dolls/
LOCATION:Bellevue Univeristy MVSC\, 2108 Harvell Cir.\, Bellevue \, 68005
END:VEVENT
BEGIN:VEVENT
DTSTART;TZID=UTC:20171213T180000
DTEND;TZID=UTC:20171213T210000
DTSTAMP:20260424T013701
CREATED:20171031T203102Z
LAST-MODIFIED:20171031T203102Z
UID:984-1513188000-1513198800@newcenturyartguild.org
SUMMARY:Vet-X-Press Creativity Workshop #12 – Deck the Halls! Holiday Ornaments
DESCRIPTION:Use tinsel\, evergreen\, paint\, glitter and other trimmings to give sparkle to your own unique handmade ornaments. Give them as gifts or use them decorate your tree\, your mantle –or decorate the MVSC!
URL:https://newcenturyartguild.org/event/vet-x-press-creativity-workshop-12-deck-the-halls-holiday-ornaments/
LOCATION:Bellevue Univeristy MVSC\, 2108 Harvell Cir.\, Bellevue \, 68005
END:VEVENT
BEGIN:VEVENT
DTSTART;TZID=UTC:20171206T180000
DTEND;TZID=UTC:20171206T210000
DTSTAMP:20260424T013701
CREATED:20171031T202947Z
LAST-MODIFIED:20171031T202947Z
UID:983-1512583200-1512594000@newcenturyartguild.org
SUMMARY:Vet-X-Press Creativity Workshop #11 – Christmas Card Printmaking
DESCRIPTION:Celebrate the holidays by making (and sending) handmade cards using a smorgasbord of paper crafts and decorative elements.  Use colorful papers\, stickers and designs to create unique handmade cards and envelopes!
URL:https://newcenturyartguild.org/event/vet-x-press-creativity-workshop-11-christmas-card-printmaking/
LOCATION:Bellevue Univeristy MVSC\, 2108 Harvell Cir.\, Bellevue \, 68005
END:VEVENT
BEGIN:VEVENT
DTSTART;TZID=UTC:20171129T180000
DTEND;TZID=UTC:20171129T210000
DTSTAMP:20260424T013701
CREATED:20171031T202755Z
LAST-MODIFIED:20171031T202755Z
UID:982-1511978400-1511989200@newcenturyartguild.org
SUMMARY:Vet-X-Press Creativity Workshop #10 –  The Jeweled Canvas
DESCRIPTION:Work with transferred designs\, paint stencils and artistic beads to make exquisite seed-bead paintings suitable for framing.
URL:https://newcenturyartguild.org/event/vet-x-press-creativity-workshop-10-the-jeweled-canvas/
LOCATION:Bellevue Univeristy MVSC\, 2108 Harvell Cir.\, Bellevue \, 68005
END:VEVENT
BEGIN:VEVENT
DTSTART;TZID=UTC:20171115T180000
DTEND;TZID=UTC:20171115T210000
DTSTAMP:20260424T013701
CREATED:20171031T202626Z
LAST-MODIFIED:20171031T202626Z
UID:981-1510768800-1510779600@newcenturyartguild.org
SUMMARY:Vet-X-Press Creativity Workshop #9 - Weird\, Wild Stuff! Writing for Comedy!
DESCRIPTION:Ever considered that the weird\, wild stuff that happens to you in your life would be great for a funny movie or in the punchline of a stand-up comedian? In this workshop\, learn what makes comedy “tick” and burst into laughter!
URL:https://newcenturyartguild.org/event/vet-x-press-creativity-workshop-9-weird-wild-stuff-writing-for-comedy/
LOCATION:Bellevue Univeristy MVSC\, 2108 Harvell Cir.\, Bellevue \, 68005
END:VEVENT
BEGIN:VEVENT
DTSTART;TZID=UTC:20171108T200000
DTEND;TZID=UTC:20171108T210000
DTSTAMP:20260424T013701
CREATED:20171031T202510Z
LAST-MODIFIED:20171031T202510Z
UID:980-1510171200-1510174800@newcenturyartguild.org
SUMMARY:Vet-X-Press Creativity Workshop #8 - – Veterans Day T-shirts
DESCRIPTION:Give a salute to your brothers and sisters in arms by contributing to a patriotic design. Everyone that participates will get a t-shirt with the featured design in the size and color they wish!
URL:https://newcenturyartguild.org/event/vet-x-press-creativity-workshop-8-veterans-day-t-shirts/
LOCATION:Bellevue Univeristy MVSC\, 2108 Harvell Cir.\, Bellevue \, 68005
END:VEVENT
BEGIN:VEVENT
DTSTART;TZID=UTC:20171101T180000
DTEND;TZID=UTC:20171101T210000
DTSTAMP:20260424T013701
CREATED:20171031T202345Z
LAST-MODIFIED:20171031T202345Z
UID:979-1509559200-1509570000@newcenturyartguild.org
SUMMARY:Vet-X-Press Creativity Workshop #7 - Claymation Nation--Stop-Action Animation
DESCRIPTION:Use small objects\, including colorful animation clay\, to create your own moving reality. Work as a team\, or teams\, to create hilarious short animated videos!
URL:https://newcenturyartguild.org/event/vet-x-press-creativity-workshop-7-claymation-nation-stop-action-animation/
LOCATION:Bellevue Univeristy MVSC\, 2108 Harvell Cir.\, Bellevue \, 68005
END:VEVENT
BEGIN:VEVENT
DTSTART;TZID=UTC:20171030T040000
DTEND;TZID=UTC:20171030T190000
DTSTAMP:20260424T013701
CREATED:20171027T141614Z
LAST-MODIFIED:20171027T141650Z
UID:972-1509336000-1509390000@newcenturyartguild.org
SUMMARY:OMAHA MAGAZINE LAUNCH PARTY- SALUTE TO THE VETS
DESCRIPTION:In honor of Veterans Day\, 2017\, Omaha Magazine will introduce its November-December issue at a Launch Party at the Regency Parkway Art Gallery. \nThe featured speaker will be Chuck Hagel\, former Secretary of Defense and two-term United States Senator from Nebraska. The featured artist will be Mike Hagel\, renowned illustrator and painter of the American Experience. A large selection of Mike’s original paintings and prints will be on display and for sale. In addition\, the event will also feature artwork by local veterans in the New Century Art Guild. \nAlso on display and for sale “Portraits of Courage\,” by President George W. Bush. 100% of the proceeds from the sales of the book will benefit Veterans and their Families. \nLight refreshments will be served. This event is open to the Public. \nDate:          Monday Oct 30th \nTime:         4:00 to 7:00 \nLocation:     Regency Parkway Art Gallery\, 440 Regency Parkway; inside the US Bank Building\, Suite 137 (Free Parking) \nRSVP/Donation with Omaha Magazine Subcription : https://localstubs.com/events/Nov-Dec-Launch/tickets
URL:https://newcenturyartguild.org/event/omaha-magazine-launch-party-salute-to-the-vets/
LOCATION:NCAG CANTEEN GALLERY & WORKSPACE\, 4142 Main Street\, Elk Horn\, IA\, 51531\, United States
END:VEVENT
BEGIN:VEVENT
DTSTART;TZID=UTC:20171018T060000
DTEND;TZID=UTC:20171018T210000
DTSTAMP:20260424T013701
CREATED:20171005T213353Z
LAST-MODIFIED:20171005T213353Z
UID:968-1508306400-1508360400@newcenturyartguild.org
SUMMARY:VET-X-PRESS Creative Workshop #5-- Haunted House Pop-ups
DESCRIPTION:Create mini Halloween Haunted Houses that can be sent as ghoulish greeting cards. Hide ghosts in attics\, skeletons in closets\, bats in the belfry…and whatever else your mind can conceive!
URL:https://newcenturyartguild.org/event/vet-x-press-creative-workshop-5-haunted-house-pop-ups/
LOCATION:Bellevue Univeristy MVSC\, 2108 Harvell Cir.\, Bellevue \, 68005
END:VEVENT
BEGIN:VEVENT
DTSTART;TZID=UTC:20171011T180000
DTEND;TZID=UTC:20171011T210000
DTSTAMP:20260424T013701
CREATED:20171005T213206Z
LAST-MODIFIED:20171005T213206Z
UID:967-1507744800-1507755600@newcenturyartguild.org
SUMMARY:VET -X-PRESS Creative Workshop #4 - Fans of Asia Brush Painting
DESCRIPTION:Investigate the medium\, technique\, and philosophy of this classical Asian art form while learning the basic brushwork\, sumi-ink application\, and fundamental composition techniques of Asian painting…also we’ll order Chinese food takeout!
URL:https://newcenturyartguild.org/event/vet-x-press-creative-workshop-4-fans-of-asia-brush-painting/
LOCATION:Bellevue Univeristy MVSC\, 2108 Harvell Cir.\, Bellevue \, 68005
END:VEVENT
BEGIN:VEVENT
DTSTART;TZID=UTC:20171004T180000
DTEND;TZID=UTC:20171004T210000
DTSTAMP:20260424T013701
CREATED:20170915T011049Z
LAST-MODIFIED:20170915T011049Z
UID:965-1507140000-1507150800@newcenturyartguild.org
SUMMARY:VET-X-PRESS CREATIVITY WORKSHOP #3 -- Cornell’s Dream Boxes
DESCRIPTION:Explore the surreal world of Joseph Cornell while creating a captivating homage to this visionary artist that combined collage and assemblage techniques.
URL:https://newcenturyartguild.org/event/vet-x-press-creativity-workshop-3-cornells-dream-boxes/
LOCATION:Bellevue Univeristy MVSC\, 2108 Harvell Cir.\, Bellevue \, 68005
END:VEVENT
BEGIN:VEVENT
DTSTART;TZID=UTC:20170927T180000
DTEND;TZID=UTC:20170927T210000
DTSTAMP:20260424T013701
CREATED:20170915T010912Z
LAST-MODIFIED:20170915T010912Z
UID:964-1506535200-1506546000@newcenturyartguild.org
SUMMARY:VET-X-PRESS CREATIVITY WORKSHOP #2 -- Comedy Improv 101
DESCRIPTION:Learn the basics about improvisational acting from a professional actor! Borrow from your own experience to create believable characters that can be funny or seriously funny. Use simple acting techniques bring your scenes to life!
URL:https://newcenturyartguild.org/event/vet-x-press-creativity-workshop-2-comedy-improv-101/
LOCATION:Bellevue Univeristy MVSC\, 2108 Harvell Cir.\, Bellevue \, 68005
END:VEVENT
BEGIN:VEVENT
DTSTART;TZID=UTC:20170920T180000
DTEND;TZID=UTC:20170920T210000
DTSTAMP:20260424T013701
CREATED:20170915T010649Z
LAST-MODIFIED:20170915T010649Z
UID:963-1505930400-1505941200@newcenturyartguild.org
SUMMARY:VET-X-PRESS CREATIVITY WORKSHOP #1 --“We Love Our Vets” -Online Exhibition
DESCRIPTION:Create mixed-media masterpieces that will be displayed in a national online exhibition that will show our appreciation for veterans across the nation.
URL:https://newcenturyartguild.org/event/vet-x-press-creativity-workshop-1-we-love-our-vets-online-exhibition/
LOCATION:Bellevue Univeristy MVSC\, 2108 Harvell Cir.\, Bellevue \, 68005
END:VEVENT
BEGIN:VEVENT
DTSTART;TZID=UTC:20170811T180000
DTEND;TZID=UTC:20170811T200000
DTSTAMP:20260424T013701
CREATED:20170802T193007Z
LAST-MODIFIED:20170802T193007Z
UID:954-1502474400-1502481600@newcenturyartguild.org
SUMMARY:The Vetted View: Opening Reception
DESCRIPTION:Join us for a reception of US Military veterans that are current or former photography students at MCC and are also members of New Century Art Guild. \nLocation: Building #21\, Mule Barn Atrium\, MCC Fort Omaha Campus
URL:https://newcenturyartguild.org/event/the-vetted-view-opening-reception/
LOCATION:Metro Fort Omaha Campus\, Omaha\, United States
END:VEVENT
BEGIN:VEVENT
DTSTART;TZID=UTC:20170722T170000
DTEND;TZID=UTC:20170722T190000
DTSTAMP:20260424T013701
CREATED:20170719T155826Z
LAST-MODIFIED:20170719T155826Z
UID:949-1500742800-1500750000@newcenturyartguild.org
SUMMARY:MY SISTER'S SMILE: REPRISE
DESCRIPTION:
URL:https://newcenturyartguild.org/event/my-sisters-smile-reprise/
LOCATION:New Century Art Guild Gallery\, 117 North Main Street\, Kimballton\, 51543\, United States
END:VEVENT
BEGIN:VEVENT
DTSTART;TZID=UTC:20170622T170000
DTEND;TZID=UTC:20170622T210000
DTSTAMP:20260424T013701
CREATED:20170510T163611Z
LAST-MODIFIED:20170510T163611Z
UID:943-1498150800-1498165200@newcenturyartguild.org
SUMMARY:Vet-X-Press #12 – Art Olympics; Independence Day Edition!
DESCRIPTION:Enjoy hilarious and thought provoking art games\, and win big prizes! …also enjoy grilled burgers\, hotdogs and chips!
URL:https://newcenturyartguild.org/event/vet-x-press-12-art-olympics-independence-day-edition/
LOCATION:Bellevue Univeristy MVSC\, 2108 Harvell Cir.\, Bellevue \, 68005
END:VEVENT
END:VCALENDAR